BEGIN:VCALENDAR
VERSION:2.0
PRODID:-//jEvents 2.0 for Joomla//EN
CALSCALE:GREGORIAN
METHOD:PUBLISH
BEGIN:VEVENT
UID:c496e75231bd7abf3e83768ec9444be8
CATEGORIES:3. Bezirk
CREATED:20250902T102030
SUMMARY:MEIN ERSTES JAHR ALS MAMA - psychotherapeutische Jahresgruppe
LOCATION:Ölzeltgasse 1/10\, 1030 Wien
DESCRIPTION:DU BIST VOR KURZEM MAMA GEWORDEN UND ...\n\n - fühlst dich erschöpft oder s
 tehst unter Stress\n - erlebst Schuldgefühle, Ängste oder Selbstzweifel\n -
  bist belastet nach schwerer Geburt\n - fühlst dich einsam und mit der Verä
 nderung allein gelassen\n - ringst mit Erwartungen, Ansprüchen und Identitä
 ts-fragen\n - es Fällt dir schwer Partnerschaft, Beruf und Mutterschaft zu 
 vereinbaren \nWAS DICH ERWARTET:\n\n - Psychotherapeutisch angeleiteter Aus
 tausch mit anderen Müttern\n - Raum für ehrliche Gefühle – ohne Leistungsdr
 uck, Vergleiche oder Erwartungen\n - Stärkende Impulse, Reflexion, kreative
  Methoden &amp; körperorientierte Übungen\n - Ein sicherer Rahmen, in dem d
 u dich gesehen, verstanden und begleitet fühlen darfst \n6-8 Teilnehmerinne
 n\nZuschuss/Übernahme Krankenkasse möglich\n \nweitere Informationen unter 
 www.psychotherapie-juliaschick.at\n
X-ALT-DESC;FMTTYPE=text/html:<p>DU BIST VOR KURZEM MAMA GEWORDEN UND ...</p><ul><li>fühlst dich erschöpf
 t oder stehst unter Stress</li></ul><ul><li>erlebst&nbsp;Schuldgefühle, Äng
 ste oder Selbstzweifel</li></ul><ul><li>bist belastet nach schwerer Geburt<
 /li></ul><ul><li>fühlst dich einsam und mit der Veränderung allein gelassen
 </li></ul><ul><li>ringst mit Erwartungen, Ansprüchen und Identitäts-fragen<
 /li></ul><ul><li>es Fällt&nbsp;dir schwer Partnerschaft, Beruf und Muttersc
 haft zu vereinbaren</li></ul><p>&nbsp;</p><p>WAS DICH ERWARTET:</p><ul><li>
 Psychotherapeutisch angeleiteter Austausch mit anderen Müttern</li></ul><ul
 ><li>Raum für ehrliche Gefühle – ohne Leistungsdruck, Vergleiche oder Erwar
 tungen</li></ul><ul><li>Stärkende Impulse, Reflexion, kreative Methoden &am
 p; körperorientierte Übungen</li></ul><ul><li>Ein sicherer Rahmen, in dem d
 u dich gesehen, verstanden und begleitet fühlen darfst</li></ul><p>&nbsp;</
 p><p>6-8 Teilnehmerinnen</p><p>Zuschuss/Übernahme Krankenkasse möglich</p><
 p>&nbsp;</p><p>weitere Informationen unter www.psychotherapie-juliaschick.a
 t</p>
CONTACT:Mag. Julia Schick, BA
X-EXTRAINFO:[preis='4000'][anmeldung='true']
DTSTAMP:20260424T231350
DTSTART:20250930T080000
DTEND:20250930T093000
SEQUENCE:0
TRANSP:OPAQUE
END:VEVENT
END:VCALENDAR