BEGIN:VCALENDAR
VERSION:2.0
PRODID:-//jEvents 2.0 for Joomla//EN
CALSCALE:GREGORIAN
METHOD:PUBLISH
BEGIN:VEVENT
UID:15641433c6689f1d16f4c252687216cd
CATEGORIES:18. Bezirk
CREATED:20250903T141034
SUMMARY:Schwangerschaftsyoga
LOCATION:Ferrogasse 9/1 1180 Wien
DESCRIPTION:Our prenatal yoga classes offer a gentle, nurturing sanctuary designed espe
 cially for mothers-to-be to connect deeply with their bodies and their grow
 ing babies. Suitable for all trimesters, these classes provide a supportive
  and caring environment where we combine soothing yoga poses, mindful breat
 hing techniques, and calming meditation to enhance your physical strength, 
 flexibility, and mental clarity throughout this beautiful and transformativ
 e journey.\nWhether you’re looking to ease pregnancy discomfort, prepare yo
 ur body and mind for childbirth, or simply carve out peaceful moments amids
 t the joyful chaos of pregnancy, these classes provide a safe and welcoming
  space for you to relax, recharge, and flourish.\nPlease get the OK from yo
 ur doctor before you take part in this course.\nPlease note that this class
  is taught in English.\n\n
X-ALT-DESC;FMTTYPE=text/html:<p style="box-sizing: border-box; border: 0px solid #e5e7eb; --tw-border-sp
 acing-x: 0; --tw-border-spacing-y: 0; --tw-translate-x: 0; --tw-translate-y
 : 0; --tw-rotate: 0; --tw-skew-x: 0; --tw-skew-y: 0; --tw-scale-x: 1; --tw-
 scale-y: 1; --tw-scroll-snap-strictness: proximity; --tw-ring-offset-width:
  0px; --tw-ring-offset-color: #fff; --tw-ring-color: rgb(59 130 246/0.5); -
 -tw-ring-offset-shadow: 0 0 #0000; --tw-ring-shadow: 0 0 #0000; --tw-shadow
 : 0 0 #0000; --tw-shadow-colored: 0 0 #0000; margin: 0px 0px 12px; color: #
 141414; font-family: ui-sans-serif, system-ui, sans-serif, 'Apple Color Emo
 ji', 'Segoe UI Emoji', 'Segoe UI Symbol', 'Noto Color Emoji'; font-size: me
 dium;">Our&nbsp;<span style="box-sizing: border-box; border: 0px solid #e5e
 7eb; --tw-border-spacing-x: 0; --tw-border-spacing-y: 0; --tw-translate-x: 
 0; --tw-translate-y: 0; --tw-rotate: 0; --tw-skew-x: 0; --tw-skew-y: 0; --t
 w-scale-x: 1; --tw-scale-y: 1; --tw-scroll-snap-strictness: proximity; --tw
 -ring-offset-width: 0px; --tw-ring-offset-color: #fff; --tw-ring-color: rgb
 (59 130 246/0.5); --tw-ring-offset-shadow: 0 0 #0000; --tw-ring-shadow: 0 0
  #0000; --tw-shadow: 0 0 #0000; --tw-shadow-colored: 0 0 #0000; font-weight
 : bold;">prenatal yoga classes</span>&nbsp;offer a gentle, nurturing sanctu
 ary designed especially for mothers-to-be to connect deeply with their bodi
 es and their growing babies. Suitable for&nbsp;<span style="box-sizing: bor
 der-box; border: 0px solid #e5e7eb; --tw-border-spacing-x: 0; --tw-border-s
 pacing-y: 0; --tw-translate-x: 0; --tw-translate-y: 0; --tw-rotate: 0; --tw
 -skew-x: 0; --tw-skew-y: 0; --tw-scale-x: 1; --tw-scale-y: 1; --tw-scroll-s
 nap-strictness: proximity; --tw-ring-offset-width: 0px; --tw-ring-offset-co
 lor: #fff; --tw-ring-color: rgb(59 130 246/0.5); --tw-ring-offset-shadow: 0
  0 #0000; --tw-ring-shadow: 0 0 #0000; --tw-shadow: 0 0 #0000; --tw-shadow-
 colored: 0 0 #0000; font-weight: bold;">all trimesters</span>, these classe
 s provide a supportive and caring environment where we combine&nbsp;<span s
 tyle="box-sizing: border-box; border: 0px solid #e5e7eb; --tw-border-spacin
 g-x: 0; --tw-border-spacing-y: 0; --tw-translate-x: 0; --tw-translate-y: 0;
  --tw-rotate: 0; --tw-skew-x: 0; --tw-skew-y: 0; --tw-scale-x: 1; --tw-scal
 e-y: 1; --tw-scroll-snap-strictness: proximity; --tw-ring-offset-width: 0px
 ; --tw-ring-offset-color: #fff; --tw-ring-color: rgb(59 130 246/0.5); --tw-
 ring-offset-shadow: 0 0 #0000; --tw-ring-shadow: 0 0 #0000; --tw-shadow: 0 
 0 #0000; --tw-shadow-colored: 0 0 #0000; font-weight: bold;">soothing yoga 
 poses, mindful breathing techniques, and calming meditation</span>&nbsp;to 
 enhance your physical strength, flexibility, and mental clarity throughout 
 this beautiful and transformative journey.</p><p style="box-sizing: border-
 box; border: 0px solid #e5e7eb; --tw-border-spacing-x: 0; --tw-border-spaci
 ng-y: 0; --tw-translate-x: 0; --tw-translate-y: 0; --tw-rotate: 0; --tw-ske
 w-x: 0; --tw-skew-y: 0; --tw-scale-x: 1; --tw-scale-y: 1; --tw-scroll-snap-
 strictness: proximity; --tw-ring-offset-width: 0px; --tw-ring-offset-color:
  #fff; --tw-ring-color: rgb(59 130 246/0.5); --tw-ring-offset-shadow: 0 0 #
 0000; --tw-ring-shadow: 0 0 #0000; --tw-shadow: 0 0 #0000; --tw-shadow-colo
 red: 0 0 #0000; margin: 0px 0px 12px; color: #141414; font-family: ui-sans-
 serif, system-ui, sans-serif, 'Apple Color Emoji', 'Segoe UI Emoji', 'Segoe
  UI Symbol', 'Noto Color Emoji'; font-size: medium;">Whether you’re looking
  to&nbsp;<span style="box-sizing: border-box; border: 0px solid #e5e7eb; --
 tw-border-spacing-x: 0; --tw-border-spacing-y: 0; --tw-translate-x: 0; --tw
 -translate-y: 0; --tw-rotate: 0; --tw-skew-x: 0; --tw-skew-y: 0; --tw-scale
 -x: 1; --tw-scale-y: 1; --tw-scroll-snap-strictness: proximity; --tw-ring-o
 ffset-width: 0px; --tw-ring-offset-color: #fff; --tw-ring-color: rgb(59 130
  246/0.5); --tw-ring-offset-shadow: 0 0 #0000; --tw-ring-shadow: 0 0 #0000;
  --tw-shadow: 0 0 #0000; --tw-shadow-colored: 0 0 #0000; font-weight: bold;
 ">ease pregnancy discomfort, prepare your body and mind for childbirth</spa
 n>, or simply carve out peaceful moments amidst the joyful chaos of pregnan
 cy, these classes provide a safe and welcoming space for you to relax, rech
 arge, and flourish.</p><p style="box-sizing: border-box; border: 0px solid 
 #e5e7eb; --tw-border-spacing-x: 0; --tw-border-spacing-y: 0; --tw-translate
 -x: 0; --tw-translate-y: 0; --tw-rotate: 0; --tw-skew-x: 0; --tw-skew-y: 0;
  --tw-scale-x: 1; --tw-scale-y: 1; --tw-scroll-snap-strictness: proximity; 
 --tw-ring-offset-width: 0px; --tw-ring-offset-color: #fff; --tw-ring-color:
  rgb(59 130 246/0.5); --tw-ring-offset-shadow: 0 0 #0000; --tw-ring-shadow:
  0 0 #0000; --tw-shadow: 0 0 #0000; --tw-shadow-colored: 0 0 #0000; margin:
  0px 0px 12px; color: #141414; font-family: ui-sans-serif, system-ui, sans-
 serif, 'Apple Color Emoji', 'Segoe UI Emoji', 'Segoe UI Symbol', 'Noto Colo
 r Emoji'; font-size: medium;">Please get the&nbsp;<span style="box-sizing: 
 border-box; border: 0px solid #e5e7eb; --tw-border-spacing-x: 0; --tw-borde
 r-spacing-y: 0; --tw-translate-x: 0; --tw-translate-y: 0; --tw-rotate: 0; -
 -tw-skew-x: 0; --tw-skew-y: 0; --tw-scale-x: 1; --tw-scale-y: 1; --tw-scrol
 l-snap-strictness: proximity; --tw-ring-offset-width: 0px; --tw-ring-offset
 -color: #fff; --tw-ring-color: rgb(59 130 246/0.5); --tw-ring-offset-shadow
 : 0 0 #0000; --tw-ring-shadow: 0 0 #0000; --tw-shadow: 0 0 #0000; --tw-shad
 ow-colored: 0 0 #0000; font-weight: bold;">OK from your doctor&nbsp;</span>
 before you take part in this course.</p><p style="box-sizing: border-box; b
 order: 0px solid #e5e7eb; --tw-border-spacing-x: 0; --tw-border-spacing-y: 
 0; --tw-translate-x: 0; --tw-translate-y: 0; --tw-rotate: 0; --tw-skew-x: 0
 ; --tw-skew-y: 0; --tw-scale-x: 1; --tw-scale-y: 1; --tw-scroll-snap-strict
 ness: proximity; --tw-ring-offset-width: 0px; --tw-ring-offset-color: #fff;
  --tw-ring-color: rgb(59 130 246/0.5); --tw-ring-offset-shadow: 0 0 #0000; 
 --tw-ring-shadow: 0 0 #0000; --tw-shadow: 0 0 #0000; --tw-shadow-colored: 0
  0 #0000; margin: 0px 0px 12px; color: #141414; font-family: ui-sans-serif,
  system-ui, sans-serif, 'Apple Color Emoji', 'Segoe UI Emoji', 'Segoe UI Sy
 mbol', 'Noto Color Emoji'; font-size: medium;">Please note that&nbsp;<span 
 style="box-sizing: border-box; border: 0px solid #e5e7eb; --tw-border-spaci
 ng-x: 0; --tw-border-spacing-y: 0; --tw-translate-x: 0; --tw-translate-y: 0
 ; --tw-rotate: 0; --tw-skew-x: 0; --tw-skew-y: 0; --tw-scale-x: 1; --tw-sca
 le-y: 1; --tw-scroll-snap-strictness: proximity; --tw-ring-offset-width: 0p
 x; --tw-ring-offset-color: #fff; --tw-ring-color: rgb(59 130 246/0.5); --tw
 -ring-offset-shadow: 0 0 #0000; --tw-ring-shadow: 0 0 #0000; --tw-shadow: 0
  0 #0000; --tw-shadow-colored: 0 0 #0000; font-weight: bold;">this class is
  taught in English.</span></p><p><span style="box-sizing: border-box; borde
 r: 0px solid #e5e7eb; --tw-border-spacing-x: 0; --tw-border-spacing-y: 0; -
 -tw-translate-x: 0; --tw-translate-y: 0; --tw-rotate: 0; --tw-skew-x: 0; --
 tw-skew-y: 0; --tw-scale-x: 1; --tw-scale-y: 1; --tw-scroll-snap-strictness
 : proximity; --tw-ring-offset-width: 0px; --tw-ring-offset-color: #fff; --t
 w-ring-color: rgb(59 130 246/0.5); --tw-ring-offset-shadow: 0 0 #0000; --tw
 -ring-shadow: 0 0 #0000; --tw-shadow: 0 0 #0000; --tw-shadow-colored: 0 0 #
 0000; font-weight: bold;"></span></p>
CONTACT:https://www.beyourmuse.at/stundenplan
X-EXTRAINFO:[preis='2000'][anmeldung='true']
DTSTAMP:20260425T103605
DTSTART:20251008T162000
DTEND:20251008T173000
SEQUENCE:0
TRANSP:OPAQUE
END:VEVENT
END:VCALENDAR