BEGIN:VCALENDAR
VERSION:2.0
PRODID:-//jEvents 2.0 for Joomla//EN
CALSCALE:GREGORIAN
METHOD:PUBLISH
BEGIN:VEVENT
UID:75ba9d113bfc72f59f54d8ef25bf2df1
CATEGORIES:18. Bezirk
CREATED:20250903T141406
SUMMARY:Latin Dancing for Pregnant Women and Mamas
LOCATION:Ferrogasse 9/1 1180 Wien
DESCRIPTION:<p style="box-sizing: border-box; border: 0px solid #e5e7eb; --tw-border-sp
 acing-x: 0; --tw-border-spacing-y: 0; --tw-translate-x: 0; --tw-translate-y
 : 0; --tw-rotate: 0; --tw-skew-x: 0; --tw-skew-y: 0; --tw-scale-x: 1; --tw-
 scale-y: 1; --tw-scroll-snap-strictness: proximity; --tw-ring-offset-width:
  0px; --tw-ring-offset-color: #fff; --tw-ring-color: rgb(59 130 246/0.5); -
 -tw-ring-offset-shadow: 0 0 #0000; --tw-ring-shadow: 0 0 #0000; --tw-shadow
 : 0 0 #0000; --tw-shadow-colored: 0 0 #0000; margin: 0px 0px 12px; color: #
 141414; font-family: ui-sans-serif, system-ui, sans-serif, 'Apple Color Emo
 ji', 'Segoe UI Emoji', 'Segoe UI Symbol', 'Noto Color Emoji'; font-size: me
 dium;">Discover the joy of dancing with your baby in your arms or in your b
 elly at our&nbsp;<span style="box-sizing: border-box; border: 0px solid #e5
 e7eb; --tw-border-spacing-x: 0; --tw-border-spacing-y: 0; --tw-translate-x:
  0; --tw-translate-y: 0; --tw-rotate: 0; --tw-skew-x: 0; --tw-skew-y: 0; --
 tw-scale-x: 1; --tw-scale-y: 1; --tw-scroll-snap-strictness: proximity; --t
 w-ring-offset-width: 0px; --tw-ring-offset-color: #fff; --tw-ring-color: rg
 b(59 130 246/0.5); --tw-ring-offset-shadow: 0 0 #0000; --tw-ring-shadow: 0 
 0 #0000; --tw-shadow: 0 0 #0000; --tw-shadow-colored: 0 0 #0000; font-weigh
 t: bold;">Mama Latin Dance Class&nbsp;</span>for pregnant women and new mom
 s!</p><p style="box-sizing: border-box; border: 0px solid #e5e7eb; --tw-bor
 der-spacing-x: 0; --tw-border-spacing-y: 0; --tw-translate-x: 0; --tw-trans
 late-y: 0; --tw-rotate: 0; --tw-skew-x: 0; --tw-skew-y: 0; --tw-scale-x: 1;
  --tw-scale-y: 1; --tw-scroll-snap-strictness: proximity; --tw-ring-offset-
 width: 0px; --tw-ring-offset-color: #fff; --tw-ring-color: rgb(59 130 246/0
 .5); --tw-ring-offset-shadow: 0 0 #0000; --tw-ring-shadow: 0 0 #0000; --tw-
 shadow: 0 0 #0000; --tw-shadow-colored: 0 0 #0000; margin: 0px 0px 12px; co
 lor: #141414; font-family: ui-sans-serif, system-ui, sans-serif, 'Apple Col
 or Emoji', 'Segoe UI Emoji', 'Segoe UI Symbol', 'Noto Color Emoji'; font-si
 ze: medium;">Movement, fun, and shared moments — for you and your baby.</p>
 <p style="box-sizing: border-box; border: 0px solid #e5e7eb; --tw-border-sp
 acing-x: 0; --tw-border-spacing-y: 0; --tw-translate-x: 0; --tw-translate-y
 : 0; --tw-rotate: 0; --tw-skew-x: 0; --tw-skew-y: 0; --tw-scale-x: 1; --tw-
 scale-y: 1; --tw-scroll-snap-strictness: proximity; --tw-ring-offset-width:
  0px; --tw-ring-offset-color: #fff; --tw-ring-color: rgb(59 130 246/0.5); -
 -tw-ring-offset-shadow: 0 0 #0000; --tw-ring-shadow: 0 0 #0000; --tw-shadow
 : 0 0 #0000; --tw-shadow-colored: 0 0 #0000; margin: 0px 0px 12px; color: #
 141414; font-family: ui-sans-serif, system-ui, sans-serif, 'Apple Color Emo
 ji', 'Segoe UI Emoji', 'Segoe UI Symbol', 'Noto Color Emoji'; font-size: me
 dium;">Our Mama Latin Dance Class with our delightful Latin dance teacher (
 and mom of two) Ludi are designed for both pregnant women and moms in postp
 artum and gives you the chance to&nbsp;<span style="box-sizing: border-box;
  border: 0px solid #e5e7eb; --tw-border-spacing-x: 0; --tw-border-spacing-y
 : 0; --tw-translate-x: 0; --tw-translate-y: 0; --tw-rotate: 0; --tw-skew-x:
  0; --tw-skew-y: 0; --tw-scale-x: 1; --tw-scale-y: 1; --tw-scroll-snap-stri
 ctness: proximity; --tw-ring-offset-width: 0px; --tw-ring-offset-color: #ff
 f; --tw-ring-color: rgb(59 130 246/0.5); --tw-ring-offset-shadow: 0 0 #0000
 ; --tw-ring-shadow: 0 0 #0000; --tw-shadow: 0 0 #0000; --tw-shadow-colored:
  0 0 #0000; font-weight: bold;">dance in a relaxed, joyful atmosphere while
  getting a great workout.</span></p><p style="box-sizing: border-box; borde
 r: 0px solid #e5e7eb; --tw-border-spacing-x: 0; --tw-border-spacing-y: 0; -
 -tw-translate-x: 0; --tw-translate-y: 0; --tw-rotate: 0; --tw-skew-x: 0; --
 tw-skew-y: 0; --tw-scale-x: 1; --tw-scale-y: 1; --tw-scroll-snap-strictness
 : proximity; --tw-ring-offset-width: 0px; --tw-ring-offset-color: #fff; --t
 w-ring-color: rgb(59 130 246/0.5); --tw-ring-offset-shadow: 0 0 #0000; --tw
 -ring-shadow: 0 0 #0000; --tw-shadow: 0 0 #0000; --tw-shadow-colored: 0 0 #
 0000; margin: 0px 0px 12px; color: #141414; font-family: ui-sans-serif, sys
 tem-ui, sans-serif, 'Apple Color Emoji', 'Segoe UI Emoji', 'Segoe UI Symbol
 ', 'Noto Color Emoji'; font-size: medium;">You’ll learn s<span style="box-s
 izing: border-box; border: 0px solid #e5e7eb; --tw-border-spacing-x: 0; --t
 w-border-spacing-y: 0; --tw-translate-x: 0; --tw-translate-y: 0; --tw-rotat
 e: 0; --tw-skew-x: 0; --tw-skew-y: 0; --tw-scale-x: 1; --tw-scale-y: 1; --t
 w-scroll-snap-strictness: proximity; --tw-ring-offset-width: 0px; --tw-ring
 -offset-color: #fff; --tw-ring-color: rgb(59 130 246/0.5); --tw-ring-offset
 -shadow: 0 0 #0000; --tw-ring-shadow: 0 0 #0000; --tw-shadow: 0 0 #0000; --
 tw-shadow-colored: 0 0 #0000; font-weight: bold;">imple Latin dance steps l
 ike Salsa, Bachata, and Merengue — no experience needed!</span></p><p style
 ="box-sizing: border-box; border: 0px solid #e5e7eb; --tw-border-spacing-x:
  0; --tw-border-spacing-y: 0; --tw-translate-x: 0; --tw-translate-y: 0; --t
 w-rotate: 0; --tw-skew-x: 0; --tw-skew-y: 0; --tw-scale-x: 1; --tw-scale-y:
  1; --tw-scroll-snap-strictness: proximity; --tw-ring-offset-width: 0px; --
 tw-ring-offset-color: #fff; --tw-ring-color: rgb(59 130 246/0.5); --tw-ring
 -offset-shadow: 0 0 #0000; --tw-ring-shadow: 0 0 #0000; --tw-shadow: 0 0 #0
 000; --tw-shadow-colored: 0 0 #0000; margin: 0px 0px 12px; color: #141414; 
 font-family: ui-sans-serif, system-ui, sans-serif, 'Apple Color Emoji', 'Se
 goe UI Emoji', 'Segoe UI Symbol', 'Noto Color Emoji'; font-size: medium;"><
 span style="box-sizing: border-box; border: 0px solid #e5e7eb; --tw-border-
 spacing-x: 0; --tw-border-spacing-y: 0; --tw-translate-x: 0; --tw-translate
 -y: 0; --tw-rotate: 0; --tw-skew-x: 0; --tw-skew-y: 0; --tw-scale-x: 1; --t
 w-scale-y: 1; --tw-scroll-snap-strictness: proximity; --tw-ring-offset-widt
 h: 0px; --tw-ring-offset-color: #fff; --tw-ring-color: rgb(59 130 246/0.5);
  --tw-ring-offset-shadow: 0 0 #0000; --tw-ring-shadow: 0 0 #0000; --tw-shad
 ow: 0 0 #0000; --tw-shadow-colored: 0 0 #0000; font-weight: bold;">For post
 partum moms:</span>&nbsp;If you are a new mom coming with your baby, you ca
 n move to the rhythm of the music, while your baby stays safely close in a 
 carrier or can relax and play on a play mat.</p><p style="box-sizing: borde
 r-box; border: 0px solid #e5e7eb; --tw-border-spacing-x: 0; --tw-border-spa
 cing-y: 0; --tw-translate-x: 0; --tw-translate-y: 0; --tw-rotate: 0; --tw-s
 kew-x: 0; --tw-skew-y: 0; --tw-scale-x: 1; --tw-scale-y: 1; --tw-scroll-sna
 p-strictness: proximity; --tw-ring-offset-width: 0px; --tw-ring-offset-colo
 r: #fff; --tw-ring-color: rgb(59 130 246/0.5); --tw-ring-offset-shadow: 0 0
  #0000; --tw-ring-shadow: 0 0 #0000; --tw-shadow: 0 0 #0000; --tw-shadow-co
 lored: 0 0 #0000; margin: 0px 0px 12px; color: #141414; font-family: ui-san
 s-serif, system-ui, sans-serif, 'Apple Color Emoji', 'Segoe UI Emoji', 'Seg
 oe UI Symbol', 'Noto Color Emoji'; font-size: medium;">This class is perfec
 t for moms after childbirth who want to gently get their bodies moving agai
 n while enjoying emotional connection and fun with their baby.</p><p style=
 "box-sizing: border-box; border: 0px solid #e5e7eb; --tw-border-spacing-x: 
 0; --tw-border-spacing-y: 0; --tw-translate-x: 0; --tw-translate-y: 0; --tw
 -rotate: 0; --tw-skew-x: 0; --tw-skew-y: 0; --tw-scale-x: 1; --tw-scale-y: 
 1; --tw-scroll-snap-strictness: proximity; --tw-ring-offset-width: 0px; --t
 w-ring-offset-color: #fff; --tw-ring-color: rgb(59 130 246/0.5); --tw-ring-
 offset-shadow: 0 0 #0000; --tw-ring-shadow: 0 0 #0000; --tw-shadow: 0 0 #00
 00; --tw-shadow-colored: 0 0 #0000; margin: 0px 0px 12px; color: #141414; f
 ont-family: ui-sans-serif, system-ui, sans-serif, 'Apple Color Emoji', 'Seg
 oe UI Emoji', 'Segoe UI Symbol', 'Noto Color Emoji'; font-size: medium;"><s
 pan style="box-sizing: border-box; border: 0px solid #e5e7eb; --tw-border-s
 pacing-x: 0; --tw-border-spacing-y: 0; --tw-translate-x: 0; --tw-translate-
 y: 0; --tw-rotate: 0; --tw-skew-x: 0; --tw-skew-y: 0; --tw-scale-x: 1; --tw
 -scale-y: 1; --tw-scroll-snap-strictness: proximity; --tw-ring-offset-width
 : 0px; --tw-ring-offset-color: #fff; --tw-ring-color: rgb(59 130 246/0.5); 
 --tw-ring-offset-shadow: 0 0 #0000; --tw-ring-shadow: 0 0 #0000; --tw-shado
 w: 0 0 #0000; --tw-shadow-colored: 0 0 #0000; font-weight: bold;">For pregn
 ant women:&nbsp;</span>Did you know that dancing is a great way to keep mov
 ing your body throughout your pregnancy and to prepare it for childbirth to
 o? Moving your hips, your pelvis, and strengthening your back and pelvic fl
 oor without you even noticing... :-)</p><p style="box-sizing: border-box; b
 order: 0px solid #e5e7eb; --tw-border-spacing-x: 0; --tw-border-spacing-y: 
 0; --tw-translate-x: 0; --tw-translate-y: 0; --tw-rotate: 0; --tw-skew-x: 0
 ; --tw-skew-y: 0; --tw-scale-x: 1; --tw-scale-y: 1; --tw-scroll-snap-strict
 ness: proximity; --tw-ring-offset-width: 0px; --tw-ring-offset-color: #fff;
  --tw-ring-color: rgb(59 130 246/0.5); --tw-ring-offset-shadow: 0 0 #0000; 
 --tw-ring-shadow: 0 0 #0000; --tw-shadow: 0 0 #0000; --tw-shadow-colored: 0
  0 #0000; margin: 0px 0px 12px; color: #141414; font-family: ui-sans-serif,
  system-ui, sans-serif, 'Apple Color Emoji', 'Segoe UI Emoji', 'Segoe UI Sy
 mbol', 'Noto Color Emoji'; font-size: medium;">The class is offered in<span
  style="box-sizing: border-box; border: 0px solid #e5e7eb; --tw-border-spac
 ing-x: 0; --tw-border-spacing-y: 0; --tw-translate-x: 0; --tw-translate-y: 
 0; --tw-rotate: 0; --tw-skew-x: 0; --tw-skew-y: 0; --tw-scale-x: 1; --tw-sc
 ale-y: 1; --tw-scroll-snap-strictness: proximity; --tw-ring-offset-width: 0
 px; --tw-ring-offset-color: #fff; --tw-ring-color: rgb(59 130 246/0.5); --t
 w-ring-offset-shadow: 0 0 #0000; --tw-ring-shadow: 0 0 #0000; --tw-shadow: 
 0 0 #0000; --tw-shadow-colored: 0 0 #0000; font-weight: bold;">&nbsp;Englis
 h.</span></p><p style="box-sizing: border-box; border: 0px solid #e5e7eb; -
 -tw-border-spacing-x: 0; --tw-border-spacing-y: 0; --tw-translate-x: 0; --t
 w-translate-y: 0; --tw-rotate: 0; --tw-skew-x: 0; --tw-skew-y: 0; --tw-scal
 e-x: 1; --tw-scale-y: 1; --tw-scroll-snap-strictness: proximity; --tw-ring-
 offset-width: 0px; --tw-ring-offset-color: #fff; --tw-ring-color: rgb(59 13
 0 246/0.5); --tw-ring-offset-shadow: 0 0 #0000; --tw-ring-shadow: 0 0 #0000
 ; --tw-shadow: 0 0 #0000; --tw-shadow-colored: 0 0 #0000; margin: 0px 0px 1
 2px; color: #141414; font-family: ui-sans-serif, system-ui, sans-serif, 'Ap
 ple Color Emoji', 'Segoe UI Emoji', 'Segoe UI Symbol', 'Noto Color Emoji'; 
 font-size: medium;">Make sure to get the&nbsp;<span style="box-sizing: bord
 er-box; border: 0px solid #e5e7eb; --tw-border-spacing-x: 0; --tw-border-sp
 acing-y: 0; --tw-translate-x: 0; --tw-translate-y: 0; --tw-rotate: 0; --tw-
 skew-x: 0; --tw-skew-y: 0; --tw-scale-x: 1; --tw-scale-y: 1; --tw-scroll-sn
 ap-strictness: proximity; --tw-ring-offset-width: 0px; --tw-ring-offset-col
 or: #fff; --tw-ring-color: rgb(59 130 246/0.5); --tw-ring-offset-shadow: 0 
 0 #0000; --tw-ring-shadow: 0 0 #0000; --tw-shadow: 0 0 #0000; --tw-shadow-c
 olored: 0 0 #0000; font-weight: bold;">OK from your doctor</span>&nbsp;befo
 re joining.</p>
CONTACT:https://www.beyourmuse.at/stundenplan
X-EXTRAINFO:[preis='2000'][anmeldung='true']
DTSTAMP:20260425T014931
DTSTART:20251204T130000
DTEND:20251204T140000
SEQUENCE:0
TRANSP:OPAQUE
END:VEVENT
END:VCALENDAR