BEGIN:VCALENDAR
VERSION:2.0
PRODID:-//jEvents 2.0 for Joomla//EN
CALSCALE:GREGORIAN
METHOD:PUBLISH
BEGIN:VEVENT
UID:ac5ce5fbf72d3aaf54082f48392e8d8b
CATEGORIES:18. Bezirk
CREATED:20250908T112605
SUMMARY:Babymassage mit Doris
LOCATION:Spielringel  Mollgasse  11-13
DESCRIPTION:Babymassage mit Doris ab 11.09.ab 6 Wochen bis KrabbelalterStart: 11.09.\nM
 it: Doris (https://spielringel.at/angebote/das-team/mag-doris-zipper)\nKurs
 tag: Donnerstag 12:30-13:20\nTermine: 11.09., 18.09., 25.09., 02.10.\nKoste
 n: €88,- ( 4 Einheiten)\nMittels Babymassage und ihrer einfühlsamen Berühru
 ng, kannst du wundervoll in Berührung mit deinem Baby treten.\nDie Sinne de
 ines Babys werden alle angesprochen, durch die sanften Berührungen wird die
  Bíndung und das Vertrauen gestärkt. \nDie Massage wirkt bei regelmäßiger A
 nwendung positiv auf die körperliche, seelische und geistige Entwicklung, e
 benso stärkt sie das Immunsystem, fördert die Verdauung und Durchblutung.\n
 Sie wirkt stressmildernd auf alle Familienmitglieder und fördert einen bess
 eren Schlaf!\n 
X-ALT-DESC;FMTTYPE=text/html:<h2 class="element-header" style="box-sizing: border-box; margin-top: 0px; 
 margin-bottom: 0.5rem; font-family: Montserrat; font-weight: 300; line-heig
 ht: 1.2; font-size: 2.275rem; color: #2b2b2b;">Babymassage mit Doris ab 11.
 09.</h2><h4 style="box-sizing: border-box; margin-top: 0px; margin-bottom: 
 1rem; font-family: Montserrat; font-weight: 300; line-height: 1.2; font-siz
 e: 1.625rem; color: #2b2b2b;">ab 6 Wochen bis Krabbelalter</h4><div class="
 frame frame-default frame-type-textpic frame-layout-0 frame-background-none
  frame-no-backgroundimage frame-space-before-none frame-space-after-none" s
 tyle="box-sizing: border-box; position: relative; padding-top: 3.5rem; padd
 ing-bottom: 3.5rem; margin-top: 0rem; margin-bottom: 0rem; color: #2b2b2b; 
 font-family: Roboto; font-size: 16px;"><div class="frame-container" style="
 box-sizing: border-box; position: relative; width: 815px; padding-right: 0p
 x; padding-left: 0px; margin-right: auto; margin-left: auto; max-width: 114
 0px; margin-bottom: 0px;"><div class="frame-inner" style="box-sizing: borde
 r-box;"><div class="textpic textpic-right" style="box-sizing: border-box; d
 isplay: flex; flex-wrap: wrap; margin-left: -20px; margin-right: -20px; mar
 gin-bottom: 0px;"><div class="textpic-item textpic-text" style="box-sizing:
  border-box; order: 1; width: 427.5px; padding-left: 20px; padding-right: 2
 0px; margin-bottom: 0px;"><p style="box-sizing: border-box; margin-top: 0px
 ; margin-bottom: 1rem;"><span class="text-primary font-weight-bold" style="
 box-sizing: border-box; font-weight: 700 !important; color: #158795 !import
 ant;">Start:&nbsp;</span>11.09.</p><p style="box-sizing: border-box; margin
 -top: 0px; margin-bottom: 1rem;"><span class="text-primary font-weight-bold
 " style="box-sizing: border-box; font-weight: 700 !important; color: #15879
 5 !important;">Mit:&nbsp;</span><a href="https://spielringel.at/angebote/da
 s-team/mag-doris-zipper" style="box-sizing: border-box; color: #158795; tex
 t-decoration-line: none; background-color: transparent;">Doris</a></p><p st
 yle="box-sizing: border-box; margin-top: 0px; margin-bottom: 1rem;"><span c
 lass="text-primary font-weight-bold" style="box-sizing: border-box; font-we
 ight: 700 !important; color: #158795 !important;">Kurstag:&nbsp;</span>Donn
 erstag 12:30-13:20</p><p style="box-sizing: border-box; margin-top: 0px; ma
 rgin-bottom: 1rem;"><span class="text-primary font-weight-bold" style="box-
 sizing: border-box; font-weight: 700 !important; color: #158795 !important;
 ">Termine:&nbsp;</span>11.09., 18.09., 25.09., 02.10.</p><p style="box-sizi
 ng: border-box; margin-top: 0px; margin-bottom: 1rem;"><span class="text-pr
 imary font-weight-bold" style="box-sizing: border-box; font-weight: 700 !im
 portant; color: #158795 !important;">Kosten:&nbsp;</span>€88,- ( 4 Einheite
 n)</p><p style="box-sizing: border-box; margin-top: 0px; margin-bottom: 1re
 m;">Mittels Babymassage und ihrer einfühlsamen Berührung, kannst du wunderv
 oll in Berührung mit deinem Baby treten.</p><p style="box-sizing: border-bo
 x; margin-top: 0px; margin-bottom: 1rem;">Die Sinne deines Babys werden all
 e angesprochen, durch die sanften Berührungen wird die Bíndung und das Vert
 rauen gestärkt.&nbsp;</p><p style="box-sizing: border-box; margin-top: 0px;
  margin-bottom: 1rem;">Die Massage wirkt bei regelmäßiger Anwendung positiv
  auf die körperliche, seelische und geistige Entwicklung, ebenso stärkt sie
  das Immunsystem, fördert die Verdauung und Durchblutung.</p><p style="box-
 sizing: border-box; margin-top: 0px; margin-bottom: 0px;">Sie wirkt stressm
 ildernd auf alle Familienmitglieder und fördert einen besseren Schlaf!</p><
 /div></div></div></div></div><div id="c1429" class="frame frame-default fra
 me-type-form_formframework frame-layout-0 frame-background-none frame-no-ba
 ckgroundimage frame-space-before-none frame-space-after-none" style="box-si
 zing: border-box; position: relative; padding-top: 3.5rem; padding-bottom: 
 3.5rem; margin-top: -3.5rem; margin-bottom: 0rem; color: #2b2b2b; font-fami
 ly: Roboto; font-size: 16px;"><div class="frame-container" style="box-sizin
 g: border-box; position: relative; width: 815px; padding-right: 0px; paddin
 g-left: 0px; margin-right: auto; margin-left: auto; max-width: 1140px; marg
 in-bottom: 0px;"><div class="frame-inner" style="box-sizing: border-box;"><
 div class="form-container form-identifier-anmeldeformular-1429" style="box-
 sizing: border-box; margin-bottom: 0px;"><form enctype="multipart/form-data
 " method="post" novalidate="novalidate" id="anmeldeformular-1429" style="bo
 x-sizing: border-box;"><div style="box-sizing: border-box;">&nbsp;</div><in
 put autocomplete="XUHAQk4YLV2IxlMt7n" name="tx_form_formframework[anmeldefo
 rmular-1429][XUHAQk4YLV2IxlMt7n]" type="text" id="anmeldeformular-1429-XUHA
 Qk4YLV2IxlMt7n" style="box-sizing: border-box; margin: 0px 0px 0px -999em; 
 font-family: inherit; font-size: inherit; line-height: inherit; overflow: v
 isible; position: absolute;" tabindex="-1" aria-hidden="true" /><div class=
 "form-actions" style="box-sizing: border-box; margin-top: 1em;"><nav class=
 "form-navigation" style="box-sizing: border-box;"><div class="btn-toolbar" 
 style="box-sizing: border-box; display: flex; flex-wrap: wrap; justify-cont
 ent: flex-start;" role="toolbar"><div class="btn-group" style="box-sizing: 
 border-box; position: relative; display: inline-flex; vertical-align: middl
 e;" role="group"><span class="btn-group next" style="box-sizing: border-box
 ; position: relative; display: inline-flex; vertical-align: middle;"></span
 ></div></div></nav></div></form></div></div></div></div>
CONTACT:www.spielringel.at
X-EXTRAINFO:[preis='8800'][anmeldung='true']
DTSTAMP:20260425T104836
DTSTART:20250925T103000
DTEND:20250925T112000
SEQUENCE:0
TRANSP:OPAQUE
END:VEVENT
END:VCALENDAR