BEGIN:VCALENDAR
VERSION:2.0
PRODID:-//jEvents 2.0 for Joomla//EN
CALSCALE:GREGORIAN
METHOD:PUBLISH
BEGIN:VEVENT
UID:e349c7f1879e39c7b6dc96838acfa90f
CATEGORIES:2. Bezirk
CREATED:20250908T183318
SUMMARY:MiniMusik - Kindermusikgruppe 0-4 Jahre
LOCATION:Obere Augartenstraße 28\, 1020 Wien
DESCRIPTION:Singen, Spielen, Musizieren\nwww.minimusik.at (https://www.minimusik.at/)\n
 Für Kinder im Alter von 0-4 bzw. 2-4 Jahren in Begleitung eines Erwachsenen
 \nWir singen, spielen, musizieren und bewegen uns in diesem Kurs zu neuen u
 nd alten Liedern und zu eigens für die MiniMusik komponierten Songs. Es gib
 t Instrumente zum Mitmachen und Materialien, die zum Bewegen und Spaßhaben 
 einladen.\nDabei wird ganz spielerisch die kindliche Wahrnehmung und Feinmo
 torik gefördert.\nDie Kinder lernen ihre Energie in Gesang und Bewegung umz
 usetzen und zwischen Aktivität und Zuhören, Konzentration und Entspannung z
 u wechseln.\nSich gemeinsam im Gruppengesang und Gruppenklang geborgen zu f
 ühlen,\nsich ausruhen und austoben zu können und selber zu gestalten - alle
 ine und miteinander, dies alles sind wertvolle Erfahrungen, die die MiniMus
 ik den Kindern bietet.\n
X-ALT-DESC;FMTTYPE=text/html:<p style="text-align: left;"><span style="color: #000000; font-family: Helv
 etica, Arial, sans-serif; font-size: medium;">Singen, Spielen, Musizieren</
 span></p><p style="text-align: left;"><a href="https://www.minimusik.at/" s
 tyle="font-family: Helvetica, Arial, sans-serif; font-size: medium;">www.mi
 nimusik.at</a></p><p style="color: #000000; font-family: Helvetica, Arial, 
 sans-serif; font-size: medium;">Für Kinder im Alter von 0-4 bzw. 2-4 Jahren
  in Begleitung eines Erwachsenen</p><p style="color: #000000; font-family: 
 Helvetica, Arial, sans-serif; font-size: medium;"><b>Wir singen, spielen, m
 usizieren und bewegen uns</b>&nbsp;in diesem Kurs zu neuen und alten Lieder
 n und zu eigens für die MiniMusik komponierten Songs. Es gibt Instrumente z
 um Mitmachen und Materialien, die zum Bewegen und Spaßhaben einladen.</p><p
  style="color: #000000; font-family: Helvetica, Arial, sans-serif; font-siz
 e: medium;"><b>Dabei wird ganz spielerisch die kindliche Wahrnehmung und Fe
 inmotorik gefördert</b>.<br />Die Kinder lernen ihre Energie in Gesang und 
 Bewegung umzusetzen und zwischen Aktivität und Zuhören, Konzentration und E
 ntspannung zu wechseln.</p><p style="color: #000000; font-family: Helvetica
 , Arial, sans-serif; font-size: medium;"><b>Sich gemeinsam im Gruppengesang
  und Gruppenklang geborgen zu fühlen</b>,<br />sich ausruhen und austoben z
 u können und selber zu gestalten - alleine und miteinander, dies alles sind
  wertvolle Erfahrungen, die die MiniMusik den Kindern bietet.</p>
CONTACT:minimusik1020@gmail.com
X-EXTRAINFO:[preis='2000'][anmeldung='true']
DTSTAMP:20260425T103524
DTSTART:20251009T123000
DTEND:20251009T132000
SEQUENCE:0
TRANSP:OPAQUE
END:VEVENT
END:VCALENDAR