BEGIN:VCALENDAR
VERSION:2.0
PRODID:-//jEvents 2.0 for Joomla//EN
CALSCALE:GREGORIAN
METHOD:PUBLISH
BEGIN:VEVENT
UID:5b8b53086e1c3212246cd400c4c445fd
CATEGORIES:3. Bezirk
CREATED:20250918T141438
SUMMARY:Mama Movement (SchwangerschaftsYoga)
LOCATION:KINDCLUB STUDIOS
DESCRIPTION:When a child is born, so is a mother.\nSchwangerschaft ist nicht nur ein kö
 rperlicher Wandel – sie ist eine tiefgreifende Transformation auf allen Ebe
 nen: neurologisch, emotional, mental. Nichts bleibt, wie es war – und genau
  hier setzt Mama Movement an.\nIn Annas pränatalen Yogaklassen verbinden si
 ch stabilisierende und sanft kräftigende Bewegungen aus Yoga, Pilates und E
 mbodiment mit fundierter psychologischer Begleitung.\nAls erfahrene klinisc
 he Psychologin in freier Praxis bietet Anna einen Raum für Frauen, die sich
  ganzheitlich auf Geburt und Mutterschaft vorbereiten wollen. Im Zentrum st
 eht nicht die Leistung, sondern das Spüren, die Verbindung zum eigenen Körp
 er, zur Atmung und zur inneren Stärke. Übungen zur Kräftigung der Körpermit
 te und gezielte Beckenbodenarbeit bereiten dich körperlich auf die Geburt v
 or – begleitet von therapeutischen Impulsen, wie Elementen aus Hypnose und 
 einem offenen, wertfreien Raum.\nDu bist willkommen – mit oder ohne Vorerfa
 hrung, jedes Level, stark oder erschöpft.\nMama Movement ist mehr als ein Y
 ogakurs für Schwangere. Es ist eine Einladung, dich in deiner Veränderung z
 u spüren, zu verstehen und zu stärken.\nDauer: 60 min\nEN\nWhen a child is 
 born, so is a mother.\nPregnancy is not just a physical change – it is a pr
 ofound transformation on every level: neurological, emotional and mental. N
 othing remains as it was. This is exactly where Mama Movement begins.\nIn A
 nna’s prenatal yoga classes, stabilizing and gently strengthening movements
  drawn from yoga, Pilates and embodiment are combined with professional psy
 chological support.\nAs an experienced clinical psychologist in private pra
 ctice, Anna creates a safe and nurturing space for women who want to prepar
 e for birth and motherhood in a holistic way.\nThe focus is not on performa
 nce, but on sensation, connection, breath and inner strength. You’ll practi
 ce core strengthening and pelvic floor exercises to prepare your body for b
 irth – supported by therapeutic elements such as hypnosis techniques and a 
 non-judgmental, open space for whatever arises.\nYou are welcome – with or 
 without previous experience, at any level, whether you feels trong or exhau
 sted.\nMama Movement is more than a pregnancy yoga class.\nIt is an invitat
 ion to feel, understand and support yourself through this time of deep chan
 ge.\nDuration: 60 minutes\n\n
X-ALT-DESC;FMTTYPE=text/html:<p style="text-rendering: optimizelegibility; -webkit-font-smoothing: antia
 liased; box-sizing: border-box; border: 0px; padding: 0px; vertical-align: 
 baseline; cursor: text; margin: 0px; counter-reset: list-1 0 list-2 0 list-
 3 0 list-4 0 list-5 0 list-6 0 list-7 0 list-8 0 list-9 0; margin-block: 1e
 m !important;"><span style="text-rendering: optimizelegibility; -webkit-fon
 t-smoothing: antialiased; box-sizing: border-box; border: 0px; margin: 0px;
  padding: 0px; vertical-align: baseline; font-weight: bold;">When a child i
 s born, so is a mother.</span></p><p style="text-rendering: optimizelegibil
 ity; -webkit-font-smoothing: antialiased; box-sizing: border-box; border: 0
 px; padding: 0px; vertical-align: baseline; cursor: text; margin: 0px; coun
 ter-reset: list-1 0 list-2 0 list-3 0 list-4 0 list-5 0 list-6 0 list-7 0 l
 ist-8 0 list-9 0; margin-block: 1em !important;">Schwangerschaft ist nicht 
 nur ein körperlicher Wandel – sie ist eine tiefgreifende Transformation auf
  allen Ebenen: neurologisch, emotional, mental. Nichts bleibt, wie es war –
  und genau hier setzt <span style="text-rendering: optimizelegibility; -web
 kit-font-smoothing: antialiased; box-sizing: border-box; border: 0px; margi
 n: 0px; padding: 0px; vertical-align: baseline; font-weight: bold;">Mama Mo
 vement</span> an.</p><p style="text-rendering: optimizelegibility; -webkit-
 font-smoothing: antialiased; box-sizing: border-box; border: 0px; padding: 
 0px; vertical-align: baseline; cursor: text; margin: 0px; counter-reset: li
 st-1 0 list-2 0 list-3 0 list-4 0 list-5 0 list-6 0 list-7 0 list-8 0 list-
 9 0; margin-block: 1em !important;">In Annas pränatalen Yogaklassen verbind
 en sich stabilisierende und sanft kräftigende Bewegungen aus Yoga, Pilates 
 und Embodiment mit fundierter psychologischer Begleitung.</p><p style="text
 -rendering: optimizelegibility; -webkit-font-smoothing: antialiased; box-si
 zing: border-box; border: 0px; padding: 0px; vertical-align: baseline; curs
 or: text; margin: 0px; counter-reset: list-1 0 list-2 0 list-3 0 list-4 0 l
 ist-5 0 list-6 0 list-7 0 list-8 0 list-9 0; margin-block: 1em !important;"
 >Als erfahrene klinische Psychologin in freier Praxis bietet Anna einen Rau
 m für Frauen, die sich ganzheitlich auf Geburt und Mutterschaft vorbereiten
  wollen. Im Zentrum steht nicht die Leistung, sondern das Spüren, die Verbi
 ndung zum eigenen Körper, zur Atmung und zur inneren Stärke. Übungen zur Kr
 äftigung der Körpermitte und gezielte Beckenbodenarbeit bereiten dich körpe
 rlich auf die Geburt vor – begleitet von therapeutischen Impulsen, wie Elem
 enten aus Hypnose und einem offenen, wertfreien Raum.</p><p style="text-ren
 dering: optimizelegibility; -webkit-font-smoothing: antialiased; box-sizing
 : border-box; border: 0px; padding: 0px; vertical-align: baseline; cursor: 
 text; margin: 0px; counter-reset: list-1 0 list-2 0 list-3 0 list-4 0 list-
 5 0 list-6 0 list-7 0 list-8 0 list-9 0; margin-block: 1em !important;">Du 
 bist willkommen – mit oder ohne Vorerfahrung, jedes Level, stark oder ersch
 öpft.</p><p style="text-rendering: optimizelegibility; -webkit-font-smoothi
 ng: antialiased; box-sizing: border-box; border: 0px; padding: 0px; vertica
 l-align: baseline; cursor: text; margin: 0px; counter-reset: list-1 0 list-
 2 0 list-3 0 list-4 0 list-5 0 list-6 0 list-7 0 list-8 0 list-9 0; margin-
 block: 1em !important;"><span style="text-rendering: optimizelegibility; -w
 ebkit-font-smoothing: antialiased; box-sizing: border-box; border: 0px; mar
 gin: 0px; padding: 0px; vertical-align: baseline; font-weight: bold;">Mama 
 Movement </span>ist mehr als ein Yogakurs für Schwangere. Es ist eine Einla
 dung, dich in deiner Veränderung zu spüren, zu verstehen und zu stärken.</p
 ><p style="text-rendering: optimizelegibility; -webkit-font-smoothing: anti
 aliased; box-sizing: border-box; border: 0px; padding: 0px; vertical-align:
  baseline; cursor: text; margin: 0px; counter-reset: list-1 0 list-2 0 list
 -3 0 list-4 0 list-5 0 list-6 0 list-7 0 list-8 0 list-9 0; margin-block: 1
 em !important;">Dauer: 60 min</p><p style="text-rendering: optimizelegibili
 ty; -webkit-font-smoothing: antialiased; box-sizing: border-box; border: 0p
 x; padding: 0px; vertical-align: baseline; cursor: text; margin: 0px; count
 er-reset: list-1 0 list-2 0 list-3 0 list-4 0 list-5 0 list-6 0 list-7 0 li
 st-8 0 list-9 0; margin-block: 1em !important;"><span style="text-rendering
 : optimizelegibility; -webkit-font-smoothing: antialiased; box-sizing: bord
 er-box; border: 0px; margin: 0px; padding: 0px; vertical-align: baseline; f
 ont-weight: bold;">EN</span></p><p style="text-rendering: optimizelegibilit
 y; -webkit-font-smoothing: antialiased; box-sizing: border-box; border: 0px
 ; padding: 0px; vertical-align: baseline; cursor: text; margin: 0px; counte
 r-reset: list-1 0 list-2 0 list-3 0 list-4 0 list-5 0 list-6 0 list-7 0 lis
 t-8 0 list-9 0; margin-block: 1em !important;"><span style="text-rendering:
  optimizelegibility; -webkit-font-smoothing: antialiased; box-sizing: borde
 r-box; border: 0px; margin: 0px; padding: 0px; vertical-align: baseline; fo
 nt-weight: bold;">When a child is born, so is a mother.</span></p><p style=
 "text-rendering: optimizelegibility; -webkit-font-smoothing: antialiased; b
 ox-sizing: border-box; border: 0px; padding: 0px; vertical-align: baseline;
  cursor: text; margin: 0px; counter-reset: list-1 0 list-2 0 list-3 0 list-
 4 0 list-5 0 list-6 0 list-7 0 list-8 0 list-9 0; margin-block: 1em !import
 ant;">Pregnancy is not just a physical change – it is a profound transforma
 tion on every level: neurological, emotional and mental. Nothing remains as
  it was. This is exactly where <span style="text-rendering: optimizelegibil
 ity; -webkit-font-smoothing: antialiased; box-sizing: border-box; border: 0
 px; margin: 0px; padding: 0px; vertical-align: baseline; font-weight: bold;
 ">Mama Movement</span> begins.</p><p style="text-rendering: optimizelegibil
 ity; -webkit-font-smoothing: antialiased; box-sizing: border-box; border: 0
 px; padding: 0px; vertical-align: baseline; cursor: text; margin: 0px; coun
 ter-reset: list-1 0 list-2 0 list-3 0 list-4 0 list-5 0 list-6 0 list-7 0 l
 ist-8 0 list-9 0; margin-block: 1em !important;">In Anna’s prenatal yoga cl
 asses, stabilizing and gently strengthening movements drawn from yoga, Pila
 tes and embodiment are combined with professional psychological support.</p
 ><p style="text-rendering: optimizelegibility; -webkit-font-smoothing: anti
 aliased; box-sizing: border-box; border: 0px; padding: 0px; vertical-align:
  baseline; cursor: text; margin: 0px; counter-reset: list-1 0 list-2 0 list
 -3 0 list-4 0 list-5 0 list-6 0 list-7 0 list-8 0 list-9 0; margin-block: 1
 em !important;">As an experienced clinical psychologist in private practice
 , Anna creates a safe and nurturing space for women who want to prepare for
  birth and motherhood in a holistic way.</p><p style="text-rendering: optim
 izelegibility; -webkit-font-smoothing: antialiased; box-sizing: border-box;
  border: 0px; padding: 0px; vertical-align: baseline; cursor: text; margin:
  0px; counter-reset: list-1 0 list-2 0 list-3 0 list-4 0 list-5 0 list-6 0 
 list-7 0 list-8 0 list-9 0; margin-block: 1em !important;">The focus is not
  on performance, but on sensation, connection, breath and inner strength. Y
 ou’ll practice core strengthening and pelvic floor exercises to prepare you
 r body for birth – supported by therapeutic elements such as hypnosis techn
 iques and a non-judgmental, open space for whatever arises.</p><p style="te
 xt-rendering: optimizelegibility; -webkit-font-smoothing: antialiased; box-
 sizing: border-box; border: 0px; padding: 0px; vertical-align: baseline; cu
 rsor: text; margin: 0px; counter-reset: list-1 0 list-2 0 list-3 0 list-4 0
  list-5 0 list-6 0 list-7 0 list-8 0 list-9 0; margin-block: 1em !important
 ;">You are welcome – with or without previous experience, at any level, whe
 ther you feels trong or exhausted.</p><p style="text-rendering: optimizeleg
 ibility; -webkit-font-smoothing: antialiased; box-sizing: border-box; borde
 r: 0px; padding: 0px; vertical-align: baseline; cursor: text; margin: 0px; 
 counter-reset: list-1 0 list-2 0 list-3 0 list-4 0 list-5 0 list-6 0 list-7
  0 list-8 0 list-9 0; margin-block: 1em !important;"><span style="text-rend
 ering: optimizelegibility; -webkit-font-smoothing: antialiased; box-sizing:
  border-box; border: 0px; margin: 0px; padding: 0px; vertical-align: baseli
 ne; font-weight: bold;">Mama Movement</span> is more than a pregnancy yoga 
 class.</p><p style="text-rendering: optimizelegibility; -webkit-font-smooth
 ing: antialiased; box-sizing: border-box; border: 0px; padding: 0px; vertic
 al-align: baseline; cursor: text; margin: 0px; counter-reset: list-1 0 list
 -2 0 list-3 0 list-4 0 list-5 0 list-6 0 list-7 0 list-8 0 list-9 0; margin
 -block: 1em !important;">It is an invitation to feel, understand and suppor
 t yourself through this time of deep change.</p><p style="text-rendering: o
 ptimizelegibility; -webkit-font-smoothing: antialiased; box-sizing: border-
 box; border: 0px; padding: 0px; vertical-align: baseline; cursor: text; mar
 gin: 0px; counter-reset: list-1 0 list-2 0 list-3 0 list-4 0 list-5 0 list-
 6 0 list-7 0 list-8 0 list-9 0; margin-block: 1em !important;">Duration: 60
  minutes</p><p style="text-rendering: optimizelegibility; -webkit-font-smoo
 thing: antialiased; box-sizing: border-box; border: 0px; padding: 0px; vert
 ical-align: baseline; cursor: text; margin: 0px; counter-reset: list-1 0 li
 st-2 0 list-3 0 list-4 0 list-5 0 list-6 0 list-7 0 list-8 0 list-9 0; marg
 in-block: 1em !important;"><br style="text-rendering: optimizelegibility; -
 webkit-font-smoothing: antialiased; box-sizing: border-box; color: #383838;
  font-family: Helvetica, Arial, sans-serif; white-space-collapse: preserve;
 " /></p>
CONTACT:hi@kindclub.space
X-EXTRAINFO:[preis='2200'][anmeldung='true']
DTSTAMP:20260425T104849
DTSTART:20251217T093000
DTEND:20251217T103000
SEQUENCE:0
TRANSP:OPAQUE
END:VEVENT
END:VCALENDAR