BEGIN:VCALENDAR
VERSION:2.0
PRODID:-//jEvents 2.0 for Joomla//EN
CALSCALE:GREGORIAN
METHOD:PUBLISH
BEGIN:VEVENT
UID:76f0ecc76362cc6221c0f68f4fd957ad
CATEGORIES:3. Bezirk
CREATED:20250918T141628
SUMMARY:Mama-Baby-Yoga
LOCATION:KINDCLUB STUDIOS
DESCRIPTION:Ab etwa 6–8 Wochen nach der Geburt bis zum Ende des ersten Lebensjahres dei
 nes Babys bist du herzlich zum Mama-Baby-Yoga eingeladen.\nIn einer liebevo
 llen und entspannten Atmosphäre widmen wir uns deiner körperlichen und seel
 ischen Stärkung. Sanfte Yogaübungen helfen dir, Verspannungen zu lösen, dei
 ne Muskulatur behutsam wieder aufzubauen und besonders deinen beanspruchten
  Beckenboden zu kräftigen – ganz in deinem Tempo und mit Rücksicht auf dein
 e aktuelle Lebensphase.\nJede Stunde beginnt mit einem offenen Austausch. I
 n einer achtsamen Runde sprechen wir über das Leben mit Baby – über das Sch
 öne, das Überraschende und auch die Herausforderungen. Es ist Raum für dein
 e Fragen, für geteilte Erfahrungen und für gegenseitige Unterstützung unter
  Müttern.\nDu bist willkommen, genau so wie du bist – mit all dem, was dich
  bewegt.\nHinweis: Bitte sprich vor der Teilnahme mit deiner Ärztin oder de
 inem Arzt bzw. deiner Hebamme, ob Mama-Baby-Yoga für dich und dein Baby akt
 uell geeignet ist. Deine Gesundheit und dein Wohlbefinden stehen an erster 
 Stelle.\n\n
X-ALT-DESC;FMTTYPE=text/html:<p style="text-rendering: optimizelegibility; -webkit-font-smoothing: antia
 liased; box-sizing: border-box; border: 0px; padding: 0px; vertical-align: 
 baseline; cursor: text; margin: 0px; counter-reset: list-1 0 list-2 0 list-
 3 0 list-4 0 list-5 0 list-6 0 list-7 0 list-8 0 list-9 0; margin-block: 1e
 m !important;"><span style="text-rendering: optimizelegibility; -webkit-fon
 t-smoothing: antialiased; box-sizing: border-box; border: 0px; margin: 0px;
  padding: 0px; vertical-align: baseline; font-weight: bold;">Ab etwa 6–8 Wo
 chen nach der Geburt bis zum Ende des ersten Lebensjahres</span> deines Bab
 ys bist du herzlich zum Mama-Baby-Yoga eingeladen.</p><p style="text-render
 ing: optimizelegibility; -webkit-font-smoothing: antialiased; box-sizing: b
 order-box; border: 0px; padding: 0px; vertical-align: baseline; cursor: tex
 t; margin: 0px; counter-reset: list-1 0 list-2 0 list-3 0 list-4 0 list-5 0
  list-6 0 list-7 0 list-8 0 list-9 0; margin-block: 1em !important;">In ein
 er liebevollen und entspannten Atmosphäre widmen wir uns deiner körperliche
 n und seelischen Stärkung. Sanfte Yogaübungen helfen dir, Verspannungen zu 
 lösen, deine Muskulatur behutsam wieder aufzubauen und besonders deinen bea
 nspruchten Beckenboden zu kräftigen – ganz in deinem Tempo und mit Rücksich
 t auf deine aktuelle Lebensphase.</p><p style="text-rendering: optimizelegi
 bility; -webkit-font-smoothing: antialiased; box-sizing: border-box; border
 : 0px; padding: 0px; vertical-align: baseline; cursor: text; margin: 0px; c
 ounter-reset: list-1 0 list-2 0 list-3 0 list-4 0 list-5 0 list-6 0 list-7 
 0 list-8 0 list-9 0; margin-block: 1em !important;">Jede Stunde beginnt mit
  einem offenen Austausch. In einer achtsamen Runde sprechen wir über das Le
 ben mit Baby – über das Schöne, das Überraschende und auch die Herausforder
 ungen. Es ist Raum für deine Fragen, für geteilte Erfahrungen und für gegen
 seitige Unterstützung unter Müttern.</p><p style="text-rendering: optimizel
 egibility; -webkit-font-smoothing: antialiased; box-sizing: border-box; bor
 der: 0px; padding: 0px; vertical-align: baseline; cursor: text; margin: 0px
 ; counter-reset: list-1 0 list-2 0 list-3 0 list-4 0 list-5 0 list-6 0 list
 -7 0 list-8 0 list-9 0; margin-block: 1em !important;">Du bist willkommen, 
 genau so wie du bist – mit all dem, was dich bewegt.</p><p style="text-rend
 ering: optimizelegibility; -webkit-font-smoothing: antialiased; box-sizing:
  border-box; border: 0px; padding: 0px; vertical-align: baseline; cursor: t
 ext; margin: 0px; counter-reset: list-1 0 list-2 0 list-3 0 list-4 0 list-5
  0 list-6 0 list-7 0 list-8 0 list-9 0; margin-block: 1em !important;"><spa
 n style="text-rendering: optimizelegibility; -webkit-font-smoothing: antial
 iased; box-sizing: border-box; border: 0px; margin: 0px; padding: 0px; vert
 ical-align: baseline; font-weight: bold;">Hinweis:</span> <em style="text-r
 endering: optimizelegibility; -webkit-font-smoothing: antialiased; box-sizi
 ng: border-box; border: 0px; margin: 0px; padding: 0px; vertical-align: bas
 eline;">Bitte sprich vor der Teilnahme mit deiner Ärztin oder deinem Arzt b
 zw. deiner Hebamme, ob Mama-Baby-Yoga für dich und dein Baby aktuell geeign
 et ist. Deine Gesundheit und dein Wohlbefinden stehen an erster Stelle.</em
 ></p><p style="text-rendering: optimizelegibility; -webkit-font-smoothing: 
 antialiased; box-sizing: border-box; border: 0px; padding: 0px; vertical-al
 ign: baseline; cursor: text; margin: 0px; counter-reset: list-1 0 list-2 0 
 list-3 0 list-4 0 list-5 0 list-6 0 list-7 0 list-8 0 list-9 0; margin-bloc
 k: 1em !important;"><br style="text-rendering: optimizelegibility; -webkit-
 font-smoothing: antialiased; box-sizing: border-box; color: #383838; font-f
 amily: Helvetica, Arial, sans-serif; white-space-collapse: preserve;" /></p
 >
CONTACT:hi@kindclub.space
X-EXTRAINFO:[preis='2200'][anmeldung='true']
DTSTAMP:20260425T034148
DTSTART:20251103T093000
DTEND:20251103T104500
SEQUENCE:0
TRANSP:OPAQUE
END:VEVENT
END:VCALENDAR