BEGIN:VCALENDAR
VERSION:2.0
PRODID:-//jEvents 2.0 for Joomla//EN
CALSCALE:GREGORIAN
METHOD:PUBLISH
BEGIN:VEVENT
UID:b2a2775dfe98e6481bad844908e9daa0
CATEGORIES:1. Bezirk
CREATED:20250920T080729
SUMMARY:PEKiP® Spiel- und Bewegungsanregungen für Eltern mit ihren Babys im 1. Lebensjahr
LOCATION:Auerspergstrasse 6\, 1010 Wien
DESCRIPTION:Das Prager Eltern Kind Programm, PEKiP® ist ein Kurs mit Spiel- und Bewegun
 gsanregungen für Eltern mit deren Babys im 1. Lebensjahr! \n \nFür Babys. w
 elche im Zeitraum Mai bis Juli 2025 geboren sind! \n \nDas erste Lebenjahr 
 ist etwas ganz Besonders und hier wirst du liebevoll von mir als erfahrene 
 Mama zweier Söhne, Dipl- Elementarpädagogin und zertifizierte PEKiP® Gruppe
 nleiterin begleitet. \nWir treffen uns einmal wöchentlich mit ingesamt acht
  Mamas und deren gleichaltrigen Babys in einem geschützen Rahmen.\nDu belge
 itetst dein Baby in jedem einzelnen individuellen Entwicklungsschritt und b
 ekommst dafür Spiel- und Bewegungsanregungen und gleichzeitig auch Tipps fü
 r den Alltag zu Hause mit deinem Baby! \nAuch der Austausch unter den Mamas
  ist mir ganz wichtig!\nGerne zitiere ich hier ein bekanntes afrikanisches 
 Sprichwort:\n"Um eine Kind zu erziehen, braucht es ein ganzes Dorf!"\n \nIn
  diesem Sinne, ich freue mich auf dich und dein Baby! \n \nVon Herzen Danie
 la! \nWeiter Informatioen zum Kursort findets du hier:  \nPEKiP- Spiel-und 
 Bewegungsanregungen (https://medino.at/kurse/)\n \nAllgemeine Informationen
  zu PEKiP®:\nPEKiP- Spiel-und Bewegungsanregungen (https://pekip.at)\n \n \
 n
X-ALT-DESC;FMTTYPE=text/html:<p>Das <strong>Prager Eltern Kind Programm</strong>, PEKiP® ist ein Kurs mi
 t Spiel- und Bewegungsanregungen für Eltern mit deren<strong> Babys im 1. L
 ebensjahr!&nbsp;</strong></p><p>&nbsp;</p><p><strong>Für Babys. welche im Z
 eitraum Mai bis Juli 2025 geboren sind!&nbsp;</strong></p><p>&nbsp;</p><p>D
 as erste Lebenjahr ist etwas ganz Besonders und hier wirst du <strong>liebe
 voll</strong> von mir als erfahrene <strong>Mama zweier Söhne</strong>, Dip
 l- Elementarpädagogin und<strong> zertifizierte PEKiP® Gruppenleiterin</str
 ong> <strong>begleitet.&nbsp;</strong></p><p>Wir treffen uns einmal wöchent
 lich mit ingesamt <strong>acht Mamas</strong> und deren <strong>gleichaltri
 gen Babys</strong> in einem geschützen Rahmen.</p><p>Du belgeitetst dein Ba
 by in jedem<strong> einzelnen individuellen Entwicklungsschritt</strong> un
 d bekommst dafür Spiel- und Bewegungsanregungen und gleichzeitig auch <stro
 ng>Tipps für den Alltag zu</strong> <strong>Hause</strong> mit deinem Baby!
 &nbsp;</p><p>Auch der Austausch unter den Mamas ist mir ganz wichtig!</p><p
 >Gerne zitiere ich hier ein bekanntes afrikanisches Sprichwort:</p><p><stro
 ng>"Um eine Kind zu erziehen, braucht es ein ganzes Dorf!"</strong></p><p>&
 nbsp;</p><p>In diesem Sinne, ich freue mich auf dich und dein Baby!&nbsp;</
 p><p>&nbsp;</p><p><strong>Von Herzen Daniela!&nbsp;</strong></p><p>Weiter I
 nformatioen zum Kursort findets du hier:&nbsp;&nbsp;</p><p style="text-alig
 n: justify;"><a href="https://medino.at/kurse/">PEKiP- Spiel-und Bewegungsa
 nregungen</a></p><p>&nbsp;</p><p>Allgemeine Informationen zu PEKiP®:</p><p>
 <a href="https://pekip.at">PEKiP- Spiel-und Bewegungsanregungen</a></p><p>&
 nbsp;</p><p>&nbsp;</p>
CONTACT:Daniela Binter-Rumetshofer
X-EXTRAINFO:[preis='45000'][anmeldung='true']
DTSTAMP:20260423T093422
DTSTART:20251223T083000
DTEND:20251223T100000
SEQUENCE:0
TRANSP:OPAQUE
END:VEVENT
END:VCALENDAR