BEGIN:VCALENDAR
VERSION:2.0
PRODID:-//jEvents 2.0 for Joomla//EN
CALSCALE:GREGORIAN
METHOD:PUBLISH
BEGIN:VEVENT
UID:412db645fa1aef7148ec84d117be7864
CATEGORIES:9. Bezirk
CREATED:20250924T175321
SUMMARY:Bewegungslandschaft
LOCATION:Kindergruppe Giraffenland
DESCRIPTION:In unserer Bewegungslandschaft entdecken Kinder von 7–15 Monaten ihre Welt 
 im eigenen Tempo. Liebevoll arrangierte Elemente laden zum Krabbeln, Klette
 rn, Rollen, Stehen ein – ohne Anleitung, jedoch mit Begleitung und vielen M
 öglichkeiten. Die Eltern sitzen am Rand, beobachten in Ruhe und geben Raum.
  So wird sichtbar, was die Kinder schon können, und wie Motorik, Selbstvert
 rauen und Neugier wachsen.\nSchnupperTermin für alle Interessierten: 25.09 
 von 16:15 - 17:15 (bitte ANMELDEN)\nErfahrungsAbend für die Eltern am 30.10
  von 18 bis 20 Uhr\n \nFindet ab 3 Teilnehmenden statt. Maximal 6 TN möglic
 h\nKosten: 110 euro gesamter Block, inkl ErfahrungsAbend und Schnuppertermi
 n\n \n
X-ALT-DESC;FMTTYPE=text/html:<p>In unserer Bewegungslandschaft entdecken Kinder von <strong>7–15 Monaten
 </strong> ihre Welt im <strong>eigenen Tempo</strong>. Liebevoll arrangiert
 e Elemente laden zum <strong>Krabbeln, Klettern, Rollen, Stehen</strong> ei
 n – <strong>ohne Anleitung</strong>, jedoch mit Begleitung und vielen Mögli
 chkeiten. Die Eltern sitzen <strong>am Rand</strong>, beobachten in Ruhe un
 d geben Raum. So wird sichtbar, <strong>was die Kinder schon können</strong
 >, und wie <strong>Motorik, Selbstvertrauen und Neugier</strong> wachsen.</
 p><p><span class="a_GcMg font-feature-liga-off font-feature-clig-off font-f
 eature-calt-off text-decoration-none text-strikethrough-none" style="color:
  rgba(0,0,0,var(--o42jjq,1)); caret-color: #000000; --ys-xuq: none; font-we
 ight: bold; font-style: normal; font-kerning: normal;">SchnupperTermin für 
 alle Interessierten: 25.09 von 16:15 - 17:15 (bitte ANMELDEN)</span></p><p 
 class="cvGsUA direction-ltr align-start para-style-body" style="color: rgba
 (0,0,0,var(--o42jjq,1)); caret-color: #000000; --8sd0kg: none; font-family:
  'YADK32AK2Uk_1', '_fb_', 'auto'; --cyv3zq: 17.5465px; --gjplxq: 1.4; text-
 transform: none; line-height: 24px;"><span class="a_GcMg font-feature-liga-
 off font-feature-clig-off font-feature-calt-off text-decoration-none text-s
 trikethrough-none" style="color: rgba(0,0,0,var(--o42jjq,1)); caret-color: 
 #000000; --ys-xuq: none; font-weight: bold; font-style: normal; font-kernin
 g: normal;">ErfahrungsAbend für die Eltern am 30.10 von 18 bis 20 Uhr</span
 ></p><p class="cvGsUA direction-ltr align-start para-style-body" style="col
 or: rgba(0,0,0,var(--o42jjq,1)); caret-color: #000000; --8sd0kg: none; font
 -family: 'YADK32AK2Uk_1', '_fb_', 'auto'; --cyv3zq: 17.5465px; --gjplxq: 0.
 77; text-transform: none; line-height: 13px;">&nbsp;</p><p class="cvGsUA di
 rection-ltr align-start para-style-body" style="color: rgba(0,0,0,var(--o42
 jjq,1)); caret-color: #000000; --8sd0kg: none; font-family: 'YADK32AK2Uk_1'
 , '_fb_', 'auto'; --cyv3zq: 17.5465px; --gjplxq: 1.4; text-transform: none;
  line-height: 24px;"><span class="a_GcMg font-feature-liga-off font-feature
 -clig-off font-feature-calt-off text-decoration-none text-strikethrough-non
 e" style="color: rgba(0,0,0,var(--o42jjq,1)); caret-color: #000000; --ys-xu
 q: none; font-weight: 400; font-style: normal; font-kerning: normal;">Finde
 t ab 3 Teilnehmenden statt. Maximal 6 TN möglich</span></p><p><span class="
 a_GcMg font-feature-liga-off font-feature-clig-off font-feature-calt-off te
 xt-decoration-none text-strikethrough-none" style="color: rgba(0,0,0,var(--
 o42jjq,1)); caret-color: #000000; --ys-xuq: none; font-weight: 400; font-st
 yle: normal; font-kerning: normal;">Kosten: 110 euro gesamter Block, inkl E
 rfahrungsAbend und Schnuppertermin</span></p><p>&nbsp;</p>
CONTACT:Ruxandra Barbu; +43 680 2189760;  ruxandra77@gmx.at
DTSTAMP:20260424T231348
DTSTART:20251009T140000
DTEND:20251009T150000
SEQUENCE:0
TRANSP:OPAQUE
END:VEVENT
END:VCALENDAR