BEGIN:VCALENDAR
VERSION:2.0
PRODID:-//jEvents 2.0 for Joomla//EN
CALSCALE:GREGORIAN
METHOD:PUBLISH
BEGIN:VEVENT
UID:f9e47ed18e5586c1859a61064243045b
CATEGORIES:22. Bezirk
CREATED:20250929T141240
SUMMARY:PowerFlummis (4-5 Jahre)
LOCATION:Tanzschule Schwebach\, Maculangasse 1b\, 1220 Wien
DESCRIPTION:<p>In dieser Tanzstunde entdecken Kinder gemeinsam mit ihrer Trainierin spi
 elerisch die Welt der Bewegung. Beim Tanzen und Spielen verbessern sie ganz
  nebenbei ihre Koordination und ihr Rhythmusgefühl.</p><p>Der Fokus liegt a
 uf deutscher Musik, damit die Kinder die Liedtexte verstehen und sich bewus
 st zur Musik bewegen können.</p><p><strong>Kostenlose Schnupperstunde an de
 n Einstiegsterminen!</strong></p><p>Preise p. Monat.<br /><br />Schaut auf 
 unserer Homepage vorbei: <strong>www.familydancesensation.at</strong></p>
CONTACT:info@familydancesensation.at
X-EXTRAINFO:[preis='3900'][anmeldung='true']
DTSTAMP:20260425T032910
DTSTART:20251006T140000
DTEND:20251006T145000
SEQUENCE:0
TRANSP:OPAQUE
END:VEVENT
END:VCALENDAR