BEGIN:VCALENDAR
VERSION:2.0
PRODID:-//jEvents 2.0 for Joomla//EN
CALSCALE:GREGORIAN
METHOD:PUBLISH
BEGIN:VEVENT
UID:f9e47ed18e5586c1859a61064243045b
CATEGORIES:22. Bezirk
CREATED:20250929T141240
SUMMARY:PowerFlummis (4-5 Jahre)
LOCATION:Tanzschule Schwebach\, Maculangasse 1b\, 1220 Wien
DESCRIPTION:In dieser Tanzstunde entdecken Kinder gemeinsam mit ihrer Trainierin spiele
 risch die Welt der Bewegung. Beim Tanzen und Spielen verbessern sie ganz ne
 benbei ihre Koordination und ihr Rhythmusgefühl.\nDer Fokus liegt auf deuts
 cher Musik, damit die Kinder die Liedtexte verstehen und sich bewusst zur M
 usik bewegen können.\nKostenlose Schnupperstunde an den Einstiegsterminen!\
 nPreise p. Monat.\n\nSchaut auf unserer Homepage vorbei: www.familydancesen
 sation.at\n
X-ALT-DESC;FMTTYPE=text/html:<p>In dieser Tanzstunde entdecken Kinder gemeinsam mit ihrer Trainierin spi
 elerisch die Welt der Bewegung. Beim Tanzen und Spielen verbessern sie ganz
  nebenbei ihre Koordination und ihr Rhythmusgefühl.</p><p>Der Fokus liegt a
 uf deutscher Musik, damit die Kinder die Liedtexte verstehen und sich bewus
 st zur Musik bewegen können.</p><p><strong>Kostenlose Schnupperstunde an de
 n Einstiegsterminen!</strong></p><p>Preise p. Monat.<br /><br />Schaut auf 
 unserer Homepage vorbei: <strong>www.familydancesensation.at</strong></p>
CONTACT:info@familydancesensation.at
X-EXTRAINFO:[preis='3900'][anmeldung='true']
DTSTAMP:20260425T032450
DTSTART:20251020T140000
DTEND:20251020T145000
SEQUENCE:0
TRANSP:OPAQUE
END:VEVENT
END:VCALENDAR