BEGIN:VCALENDAR
VERSION:2.0
PRODID:-//jEvents 2.0 for Joomla//EN
CALSCALE:GREGORIAN
METHOD:PUBLISH
BEGIN:VEVENT
UID:9916cb96f958355810cf2a88e084e4d2
CATEGORIES:22. Bezirk
CREATED:20250929T144233
SUMMARY:PowerFlummis-Tanzkurs (4-5 Jahre)
LOCATION:Tanzschule Schwebach\, Maculangasse 1b\, 1220 Wien
DESCRIPTION:In dieser Tanzstunde entdecken Kinder gemeinsam mit ihrer Trainerin spieler
 isch die Welt der Bewegung. \nBeim Tanzen und Spielen verbessern sie ganz n
 ebenbei ihre Koordination und ihr Rhythmusgefühl.\nDer Fokus liegt auf deut
 scher Musik, damit die Kinder die Liedtexte verstehen und sich bewusst zur 
 Musik bewegen können.\nKostenlose Schnupperstunde zu den Einstiegsterminen!
 \nPreise p. Monat.\nSchaut auf unserer Homepage vorbei: www.familydancesens
 ation.at\n
X-ALT-DESC;FMTTYPE=text/html:<p style="border: none; line-height: 1.5em; margin: 0px; color: #000000; fo
 nt-family: 'Roboto Condensed', sans-serif; font-size: 15px;">In dieser Tanz
 stunde entdecken Kinder gemeinsam mit ihrer Trainerin spielerisch die Welt 
 der Bewegung.&nbsp;<br />Beim Tanzen und Spielen verbessern sie ganz nebenb
 ei ihre Koordination und ihr Rhythmusgefühl.<br />Der Fokus liegt auf deuts
 cher Musik, damit die Kinder die Liedtexte verstehen und sich bewusst zur M
 usik bewegen können.</p><p style="border: none; line-height: 1.5em; margin:
  0px; color: #000000; font-family: 'Roboto Condensed', sans-serif; font-siz
 e: 15px;"><strong>Kostenlose Schnupperstunde zu den Einstiegsterminen!</str
 ong></p><p style="border: none; line-height: 1.5em; margin: 0px; color: #00
 0000; font-family: 'Roboto Condensed', sans-serif; font-size: 15px;">Preise
  p. Monat.</p><p style="border: none; line-height: 1.5em; margin: 0px; colo
 r: #000000; font-family: 'Roboto Condensed', sans-serif; font-size: 15px;">
 Schaut auf unserer Homepage vorbei:&nbsp;<strong>www.familydancesensation.a
 t</strong></p>
CONTACT:info@familydancesensation.at
X-EXTRAINFO:[preis='3900'][anmeldung='true']
DTSTAMP:20260425T141419
DTSTART:20251210T150000
DTEND:20251210T155000
SEQUENCE:0
TRANSP:OPAQUE
END:VEVENT
END:VCALENDAR