BEGIN:VCALENDAR
VERSION:2.0
PRODID:-//jEvents 2.0 for Joomla//EN
CALSCALE:GREGORIAN
METHOD:PUBLISH
BEGIN:VEVENT
UID:86b2f5830c8bb83e08ead27ee594bf23
CATEGORIES:22. Bezirk
CREATED:20250929T155443
SUMMARY:PowerKids-Tanzkurs (8-10 Jahre)
LOCATION:Tanzschule Schwebach\, Maculangasse 1b\, 1220 Wien
DESCRIPTION:In diesem Kurs tanzen die Kids gemeinsam mit ihrer Trainerin zu aktuellen H
 its aus den Charts. Coole Moves, Beats die ins Ohr gehen und jede Menge Spa
 ß sind garantiert!\n Mit Einflüssen aus Hip Hop &amp; Co, entsteht ein mitr
 eißender Mix, der nicht nur bewegt, sondern auch Selbstvertraun und Teamgei
 st stärkt.\nKostenlose Schnupperstunde zu den Einstiegsterminen!\n Preise p
 . Monat.\n Schaut auf unserer Homepage vorbei: www.familydancesensation.at 
 (http://www.familydancesensation.at)\n
X-ALT-DESC;FMTTYPE=text/html:<p class="MsoNormal">In diesem Kurs tanzen die Kids gemeinsam mit ihrer Tra
 inerin zu aktuellen Hits aus den Charts. Coole Moves, Beats die ins Ohr geh
 en und jede Menge Spaß sind garantiert!<br /> Mit Einflüssen aus Hip Hop &a
 mp; Co, entsteht ein mitreißender Mix, der nicht nur bewegt, sondern auch S
 elbstvertraun und Teamgeist stärkt.</p><p class="MsoNormal"><b style="mso-b
 idi-font-weight: normal;">Kostenlose Schnupperstunde zu den Einstiegstermin
 en!</b><br /> Preise p. Monat.<br /> Schaut auf unserer Homepage vorbei: <b
  style="mso-bidi-font-weight: normal;"><a href="http://www.familydancesensa
 tion.at">www.familydancesensation.at</a></b></p>
CONTACT:info@familydancesensation.at
X-EXTRAINFO:[preis='3900'][anmeldung='true']
DTSTAMP:20260425T141253
DTSTART:20251216T160000
DTEND:20251216T165000
SEQUENCE:0
TRANSP:OPAQUE
END:VEVENT
END:VCALENDAR