BEGIN:VCALENDAR
VERSION:2.0
PRODID:-//jEvents 2.0 for Joomla//EN
CALSCALE:GREGORIAN
METHOD:PUBLISH
BEGIN:VEVENT
UID:c3594cfdcb49b64753f4c8f85af3c99b
CATEGORIES:7. Bezirk
CREATED:20251015T135026
SUMMARY:Baby Music Class (1-12Months) - EN
LOCATION:Bewusst Sein im Fokus – Seminarzentrum Neubaugasse 44
DESCRIPTION:<p style="caret-color: #000000; color: #000000; text-size-adjust: auto;" da
 ta-start="116" data-end="423">In this warm and joyful class, parents and ba
 bies share songs, lullabies, and playful musical moments that nurture conne
 ction and curiosity. Through your voice, your baby feels held, understood, 
 and loved — and together, you begin to create the soundtrack of your life.<
 /p><p style="caret-color: #000000; color: #000000; text-size-adjust: auto;"
  data-start="425" data-end="491"><strong data-start="425" data-end="434">Wh
 en:</strong><br data-start="434" data-end="437" /><strong data-start="440" 
 data-end="463">Mondays at 10:00 AM</strong><span class="Apple-converted-spa
 ce"></span>(starting<span class="Apple-converted-space"></span><strong data
 -start="474" data-end="488">November 3</strong>)</p><ul style="caret-color:
  #000000; color: #000000; text-size-adjust: auto;" data-start="492" data-en
 d="545"><li data-start="492" data-end="521"><p data-start="494" data-end="5
 21">10:00–10:20 — Welcome Tea</p></li><li data-start="522" data-end="545"><
 p data-start="524" data-end="545">10:20–11:00 — Class</p></li></ul><p style
 ="caret-color: #000000; color: #000000; text-size-adjust: auto;" data-start
 ="547" data-end="601"><strong data-start="550" data-end="573">Tuesdays at 4
 :00 PM</strong><span class="Apple-converted-space"></span>(starting<span cl
 ass="Apple-converted-space"></span><strong data-start="584" data-end="598">
 November 4</strong>)</p><ul style="caret-color: #000000; color: #000000; te
 xt-size-adjust: auto;" data-start="602" data-end="655"><li data-start="602"
  data-end="631"><p data-start="604" data-end="631">16:00–16:20 — Welcome Te
 a</p></li><li data-start="632" data-end="655"><p data-start="634" data-end=
 "655">16:20–17:00 — Class</p></li></ul><p>PRICE: 80€ (4 lessons)</p><p>http
 s://www.cantiamowien.com/babymusicclass</p>
CONTACT:cantiamowien@gmail.com
X-EXTRAINFO:[preis='8000'][anmeldung='true']
DTSTAMP:20260425T002557
DTSTART:20251125T150000
DTEND:20251125T160000
SEQUENCE:0
TRANSP:OPAQUE
END:VEVENT
END:VCALENDAR