BEGIN:VCALENDAR
VERSION:2.0
PRODID:-//jEvents 2.0 for Joomla//EN
CALSCALE:GREGORIAN
METHOD:PUBLISH
BEGIN:VEVENT
UID:fdd91d8919a674f70591863f8181c60e
CATEGORIES:18. Bezirk
CREATED:20251031T120336
SUMMARY:Kindertanz 3-7 Jahre alt
LOCATION:Ferrogasse 9/1\, 1180 WIen
DESCRIPTION:Tanzen, lachen, bewegen! 💃✨In unserem Kindertanz entdecken Kinder spieleris
 ch die Freude an Bewegung, Musik und Ausdruck. Mit Fantasie, Rhythmus und g
 anz viel Spaß tanzen wir durch kleine Geschichten, Tiere und Abenteuer – ga
 nz ohne Leistungsdruck.\nDie Kinder lernen, ihren Körper bewusst zu bewegen
 , ihr Gleichgewicht zu stärken und im Miteinander zu wachsen – in einer lie
 bevollen, achtsamen Atmosphäre, die perfekt zu unserem Yogastudio passt.\nE
 in Ort, an dem Bewegung Spaß macht und jedes Kind in seinem eigenen Tempo s
 trahlen darf! 🌈\n👉 Der Kurs wird auf Deutsch geleitet. Wenn jedoch nur engl
 ischsprachige Kinder teilnehmen, passt die Lehrerin den Unterricht gerne an
  und führt ihn zweisprachig durch.\n \nDance, laugh, move! 💃✨In our Kids Da
 nce class, children playfully discover the joy of movement, music, and expr
 ession. With imagination, rhythm, and lots of fun, we dance through little 
 stories, animals, and adventures – all without any pressure or competition.
 \nChildren learn to move their bodies with awareness, strengthen their bala
 nce, and grow together in a caring, mindful environment that perfectly refl
 ects the spirit of our yoga studio.\nA place where movement is fun and ever
 y child can shine at their own pace! 🌈\n👉 The class is led in German, but i
 f there are only English-speaking children, the teacher will happily adapt 
 and guide the class in both languages.\n
X-ALT-DESC;FMTTYPE=text/html:<p style="box-sizing: border-box; border: 0px solid #e5e7eb; margin: 0px 0p
 x 12px; caret-color: #141414; color: #141414; font-family: ui-sans-serif, s
 ystem-ui, sans-serif, 'Apple Color Emoji', 'Segoe UI Emoji', 'Segoe UI Symb
 ol', 'Noto Color Emoji'; -webkit-tap-highlight-color: rgba(0, 0, 0, 0); -we
 bkit-text-size-adjust: 100%;">Tanzen, lachen, bewegen! 💃✨In unserem&nbsp;<s
 trong style="box-sizing: border-box; border: 0px solid #e5e7eb; --tw-border
 -spacing-x: 0; --tw-border-spacing-y: 0; --tw-translate-x: 0; --tw-translat
 e-y: 0; --tw-rotate: 0; --tw-skew-x: 0; --tw-skew-y: 0; --tw-scale-x: 1; --
 tw-scale-y: 1; --tw-scroll-snap-strictness: proximity; --tw-ring-offset-wid
 th: 0px; --tw-ring-offset-color: #fff; --tw-ring-color: rgb(59 130 246/0.5)
 ; --tw-ring-offset-shadow: 0 0 #0000; --tw-ring-shadow: 0 0 #0000; --tw-sha
 dow: 0 0 #0000; --tw-shadow-colored: 0 0 #0000;">Kindertanz</strong>&nbsp;e
 ntdecken Kinder spielerisch die Freude an Bewegung, Musik und Ausdruck. Mit
  Fantasie, Rhythmus und ganz viel Spaß tanzen wir durch kleine Geschichten,
  Tiere und Abenteuer – ganz ohne Leistungsdruck.</p><p style="box-sizing: b
 order-box; border: 0px solid #e5e7eb; margin: 0px 0px 12px; caret-color: #1
 41414; color: #141414; font-family: ui-sans-serif, system-ui, sans-serif, '
 Apple Color Emoji', 'Segoe UI Emoji', 'Segoe UI Symbol', 'Noto Color Emoji'
 ; -webkit-tap-highlight-color: rgba(0, 0, 0, 0); -webkit-text-size-adjust: 
 100%;">Die Kinder lernen, ihren Körper bewusst zu bewegen, ihr Gleichgewich
 t zu stärken und im Miteinander zu wachsen – in einer liebevollen, achtsame
 n Atmosphäre, die perfekt zu unserem Yogastudio passt.</p><p style="box-siz
 ing: border-box; border: 0px solid #e5e7eb; margin: 0px 0px 12px; caret-col
 or: #141414; color: #141414; font-family: ui-sans-serif, system-ui, sans-se
 rif, 'Apple Color Emoji', 'Segoe UI Emoji', 'Segoe UI Symbol', 'Noto Color 
 Emoji'; -webkit-tap-highlight-color: rgba(0, 0, 0, 0); -webkit-text-size-ad
 just: 100%;">Ein Ort, an dem Bewegung Spaß macht und jedes Kind in seinem e
 igenen Tempo strahlen darf! 🌈</p><p style="box-sizing: border-box; border: 
 0px solid #e5e7eb; margin: 0px 0px 12px; caret-color: #141414; color: #1414
 14; font-family: ui-sans-serif, system-ui, sans-serif, 'Apple Color Emoji',
  'Segoe UI Emoji', 'Segoe UI Symbol', 'Noto Color Emoji'; -webkit-tap-highl
 ight-color: rgba(0, 0, 0, 0); -webkit-text-size-adjust: 100%;">👉 Der Kurs w
 ird auf&nbsp;<strong style="box-sizing: border-box; border: 0px solid #e5e7
 eb; --tw-border-spacing-x: 0; --tw-border-spacing-y: 0; --tw-translate-x: 0
 ; --tw-translate-y: 0; --tw-rotate: 0; --tw-skew-x: 0; --tw-skew-y: 0; --tw
 -scale-x: 1; --tw-scale-y: 1; --tw-scroll-snap-strictness: proximity; --tw-
 ring-offset-width: 0px; --tw-ring-offset-color: #fff; --tw-ring-color: rgb(
 59 130 246/0.5); --tw-ring-offset-shadow: 0 0 #0000; --tw-ring-shadow: 0 0 
 #0000; --tw-shadow: 0 0 #0000; --tw-shadow-colored: 0 0 #0000;">Deutsch</st
 rong>&nbsp;geleitet. Wenn jedoch nur&nbsp;<strong style="box-sizing: border
 -box; border: 0px solid #e5e7eb; --tw-border-spacing-x: 0; --tw-border-spac
 ing-y: 0; --tw-translate-x: 0; --tw-translate-y: 0; --tw-rotate: 0; --tw-sk
 ew-x: 0; --tw-skew-y: 0; --tw-scale-x: 1; --tw-scale-y: 1; --tw-scroll-snap
 -strictness: proximity; --tw-ring-offset-width: 0px; --tw-ring-offset-color
 : #fff; --tw-ring-color: rgb(59 130 246/0.5); --tw-ring-offset-shadow: 0 0 
 #0000; --tw-ring-shadow: 0 0 #0000; --tw-shadow: 0 0 #0000; --tw-shadow-col
 ored: 0 0 #0000;">englischsprachige Kinder</strong>&nbsp;teilnehmen, passt 
 die Lehrerin den Unterricht gerne an und führt ihn&nbsp;<strong style="box-
 sizing: border-box; border: 0px solid #e5e7eb; --tw-border-spacing-x: 0; --
 tw-border-spacing-y: 0; --tw-translate-x: 0; --tw-translate-y: 0; --tw-rota
 te: 0; --tw-skew-x: 0; --tw-skew-y: 0; --tw-scale-x: 1; --tw-scale-y: 1; --
 tw-scroll-snap-strictness: proximity; --tw-ring-offset-width: 0px; --tw-rin
 g-offset-color: #fff; --tw-ring-color: rgb(59 130 246/0.5); --tw-ring-offse
 t-shadow: 0 0 #0000; --tw-ring-shadow: 0 0 #0000; --tw-shadow: 0 0 #0000; -
 -tw-shadow-colored: 0 0 #0000;">zweisprachig</strong>&nbsp;durch.</p><p>&nb
 sp;</p><p style="box-sizing: border-box; border: 0px solid #e5e7eb; margin:
  0px 0px 12px; caret-color: #141414; color: #141414; font-family: ui-sans-s
 erif, system-ui, sans-serif, 'Apple Color Emoji', 'Segoe UI Emoji', 'Segoe 
 UI Symbol', 'Noto Color Emoji'; -webkit-tap-highlight-color: rgba(0, 0, 0, 
 0); -webkit-text-size-adjust: 100%;">Dance, laugh, move! 💃✨In our&nbsp;<str
 ong style="box-sizing: border-box; border: 0px solid #e5e7eb; --tw-border-s
 pacing-x: 0; --tw-border-spacing-y: 0; --tw-translate-x: 0; --tw-translate-
 y: 0; --tw-rotate: 0; --tw-skew-x: 0; --tw-skew-y: 0; --tw-scale-x: 1; --tw
 -scale-y: 1; --tw-scroll-snap-strictness: proximity; --tw-ring-offset-width
 : 0px; --tw-ring-offset-color: #fff; --tw-ring-color: rgb(59 130 246/0.5); 
 --tw-ring-offset-shadow: 0 0 #0000; --tw-ring-shadow: 0 0 #0000; --tw-shado
 w: 0 0 #0000; --tw-shadow-colored: 0 0 #0000;">Kids Dance</strong>&nbsp;cla
 ss, children playfully discover the joy of movement, music, and expression.
  With imagination, rhythm, and lots of fun, we dance through little stories
 , animals, and adventures – all without any pressure or competition.</p><p 
 style="box-sizing: border-box; border: 0px solid #e5e7eb; margin: 0px 0px 1
 2px; caret-color: #141414; color: #141414; font-family: ui-sans-serif, syst
 em-ui, sans-serif, 'Apple Color Emoji', 'Segoe UI Emoji', 'Segoe UI Symbol'
 , 'Noto Color Emoji'; -webkit-tap-highlight-color: rgba(0, 0, 0, 0); -webki
 t-text-size-adjust: 100%;">Children learn to move their bodies with awarene
 ss, strengthen their balance, and grow together in a caring, mindful enviro
 nment that perfectly reflects the spirit of our yoga studio.</p><p style="b
 ox-sizing: border-box; border: 0px solid #e5e7eb; margin: 0px 0px 12px; car
 et-color: #141414; color: #141414; font-family: ui-sans-serif, system-ui, s
 ans-serif, 'Apple Color Emoji', 'Segoe UI Emoji', 'Segoe UI Symbol', 'Noto 
 Color Emoji'; -webkit-tap-highlight-color: rgba(0, 0, 0, 0); -webkit-text-s
 ize-adjust: 100%;">A place where movement is fun and every child can shine 
 at their own pace! 🌈</p><p style="box-sizing: border-box; border: 0px solid
  #e5e7eb; margin: 0px 0px 12px; caret-color: #141414; color: #141414; font-
 family: ui-sans-serif, system-ui, sans-serif, 'Apple Color Emoji', 'Segoe U
 I Emoji', 'Segoe UI Symbol', 'Noto Color Emoji'; -webkit-tap-highlight-colo
 r: rgba(0, 0, 0, 0); -webkit-text-size-adjust: 100%;">👉 The class is led in
 &nbsp;<strong style="box-sizing: border-box; border: 0px solid #e5e7eb; --t
 w-border-spacing-x: 0; --tw-border-spacing-y: 0; --tw-translate-x: 0; --tw-
 translate-y: 0; --tw-rotate: 0; --tw-skew-x: 0; --tw-skew-y: 0; --tw-scale-
 x: 1; --tw-scale-y: 1; --tw-scroll-snap-strictness: proximity; --tw-ring-of
 fset-width: 0px; --tw-ring-offset-color: #fff; --tw-ring-color: rgb(59 130 
 246/0.5); --tw-ring-offset-shadow: 0 0 #0000; --tw-ring-shadow: 0 0 #0000; 
 --tw-shadow: 0 0 #0000; --tw-shadow-colored: 0 0 #0000;">German</strong>, b
 ut if there are only&nbsp;<strong style="box-sizing: border-box; border: 0p
 x solid #e5e7eb; --tw-border-spacing-x: 0; --tw-border-spacing-y: 0; --tw-t
 ranslate-x: 0; --tw-translate-y: 0; --tw-rotate: 0; --tw-skew-x: 0; --tw-sk
 ew-y: 0; --tw-scale-x: 1; --tw-scale-y: 1; --tw-scroll-snap-strictness: pro
 ximity; --tw-ring-offset-width: 0px; --tw-ring-offset-color: #fff; --tw-rin
 g-color: rgb(59 130 246/0.5); --tw-ring-offset-shadow: 0 0 #0000; --tw-ring
 -shadow: 0 0 #0000; --tw-shadow: 0 0 #0000; --tw-shadow-colored: 0 0 #0000;
 ">English-speaking children</strong>, the teacher will happily adapt and gu
 ide the class in&nbsp;<strong style="box-sizing: border-box; border: 0px so
 lid #e5e7eb; --tw-border-spacing-x: 0; --tw-border-spacing-y: 0; --tw-trans
 late-x: 0; --tw-translate-y: 0; --tw-rotate: 0; --tw-skew-x: 0; --tw-skew-y
 : 0; --tw-scale-x: 1; --tw-scale-y: 1; --tw-scroll-snap-strictness: proximi
 ty; --tw-ring-offset-width: 0px; --tw-ring-offset-color: #fff; --tw-ring-co
 lor: rgb(59 130 246/0.5); --tw-ring-offset-shadow: 0 0 #0000; --tw-ring-sha
 dow: 0 0 #0000; --tw-shadow: 0 0 #0000; --tw-shadow-colored: 0 0 #0000;">bo
 th languages</strong>.</p>
CONTACT:https://www.beyourmuse.at/stundenplan
X-EXTRAINFO:[preis='1000'][anmeldung='true']
DTSTAMP:20260424T195511
DTSTART:20251127T142000
DTEND:20251127T152000
SEQUENCE:0
TRANSP:OPAQUE
END:VEVENT
END:VCALENDAR