BEGIN:VCALENDAR
VERSION:2.0
PRODID:-//jEvents 2.0 for Joomla//EN
CALSCALE:GREGORIAN
METHOD:PUBLISH
BEGIN:VEVENT
UID:2a5246ae26fe819fd1355e2beebfa96e
CATEGORIES:18. Bezirk
CREATED:20251106T133406
SUMMARY:Babyklangwelt am Freitag 
LOCATION:Spielringel  Mollgasse  11-13
DESCRIPTION:Babyklangwelt am Freitag für Babys (3-10 Monate) Start: 14.11.2025\nMit: Su
 sanne (https://spielringel.at/angebote/das-team/susanne)\nKurstag: Freitag 
 13:00-13:45\nTermine: 14.11., 21.11., 28.11., 05.12., 19.12.\nKosten: €90,-
  (5 Einheiten)\nBabys lieben Klänge, Geräusche, Musik und Gesang. Gemeinsam
  schaffen wir akustische und musikalische Erlebniswelten, in die sich die B
 abys nach Möglichkeit einbringen können und erweitern dabei auch Kompetenz 
 und Repertoire das Kind im Alltag spielerisch zu fördern.\nWegen großer Nac
 hfrage haben wir diesen zusätzliche Babyklangwelt noch vor Weihnachten für 
 euch eingeschoben!\n
X-ALT-DESC;FMTTYPE=text/html:<header class="frame-header" style="box-sizing: border-box; color: #2b2b2b;
  font-family: Roboto; font-size: 16px;"><h2 class="element-header" style="b
 ox-sizing: border-box; margin-top: 0px; margin-bottom: 0.5rem; font-family:
  Montserrat; font-weight: 300; line-height: 1.2; font-size: 2.275rem;">Baby
 klangwelt am Freitag&nbsp;</h2><h4 style="box-sizing: border-box; margin-to
 p: 0px; margin-bottom: 1rem; font-family: Montserrat; font-weight: 300; lin
 e-height: 1.2; font-size: 1.625rem;">für Babys (3-10 Monate)</h4></header><
 div class="frame-container" style="box-sizing: border-box; position: relati
 ve; width: 815px; padding-right: 0px; padding-left: 0px; margin-right: auto
 ; margin-left: auto; max-width: 1140px; margin-bottom: 0px; color: #2b2b2b;
  font-family: Roboto; font-size: 16px;"><div class="frame-inner" style="box
 -sizing: border-box;"><div class="textpic textpic-right" style="box-sizing:
  border-box; display: flex; flex-wrap: wrap; margin-left: -20px; margin-rig
 ht: -20px; margin-bottom: 0px;"><div class="textpic-item textpic-gallery" s
 tyle="box-sizing: border-box; order: 2; width: 427.5px; padding-left: 20px;
  padding-right: 20px; margin-bottom: 0px;"><div class="gallery-row" style="
 box-sizing: border-box; display: flex; flex-wrap: wrap; margin-left: -0.5re
 m; margin-right: -0.5rem; margin-bottom: -1rem;"><div class="gallery-item g
 allery-item-size-1" style="box-sizing: border-box; padding-left: 0.5rem; pa
 dding-right: 0.5rem; width: 403.5px;">&nbsp;</div></div></div><div class="t
 extpic-item textpic-text" style="box-sizing: border-box; order: 1; width: 4
 27.5px; padding-left: 20px; padding-right: 20px; margin-bottom: 0px;"><p st
 yle="box-sizing: border-box; margin-top: 0px; margin-bottom: 1rem;"><span c
 lass="text-primary font-weight-bold" style="box-sizing: border-box; font-we
 ight: 700 !important; color: #158795 !important;">Start:&nbsp;</span>14.11.
 2025</p><p style="box-sizing: border-box; margin-top: 0px; margin-bottom: 1
 rem;"><span class="text-primary font-weight-bold" style="box-sizing: border
 -box; font-weight: 700 !important; color: #158795 !important;">Mit:&nbsp;</
 span><a href="https://spielringel.at/angebote/das-team/susanne" style="box-
 sizing: border-box; color: #158795; text-decoration-line: none; background-
 color: transparent;">Susanne</a></p><p style="box-sizing: border-box; margi
 n-top: 0px; margin-bottom: 1rem;"><span class="text-primary font-weight-bol
 d" style="box-sizing: border-box; font-weight: 700 !important; color: #1587
 95 !important;">Kurstag:&nbsp;</span>Freitag 13:00-13:45</p><p style="box-s
 izing: border-box; margin-top: 0px; margin-bottom: 1rem;"><span class="text
 -primary font-weight-bold" style="box-sizing: border-box; font-weight: 700 
 !important; color: #158795 !important;">Termine:&nbsp;</span>14.11., 21.11.
 , 28.11., 05.12., 19.12.</p><p style="box-sizing: border-box; margin-top: 0
 px; margin-bottom: 1rem;"><span class="text-primary font-weight-bold" style
 ="box-sizing: border-box; font-weight: 700 !important; color: #158795 !impo
 rtant;">Kosten:&nbsp;</span>€90,- (5 Einheiten)</p><p style="box-sizing: bo
 rder-box; margin-top: 0px; margin-bottom: 1rem;">Babys lieben Klänge, Geräu
 sche, Musik und Gesang. Gemeinsam schaffen wir akustische und musikalische 
 Erlebniswelten, in die sich die Babys nach Möglichkeit einbringen können un
 d erweitern dabei auch Kompetenz und Repertoire das Kind im Alltag spieleri
 sch zu fördern.</p><p style="box-sizing: border-box; margin-top: 0px; margi
 n-bottom: 0px;">Wegen großer Nachfrage haben wir diesen zusätzliche Babykla
 ngwelt noch vor Weihnachten für euch eingeschoben!</p></div></div></div></d
 iv>
CONTACT:www.spielringel.at
X-EXTRAINFO:[preis='9000'][anmeldung='true']
DTSTAMP:20260424T215334
DTSTART:20251205T120000
DTEND:20251205T124500
SEQUENCE:0
TRANSP:OPAQUE
END:VEVENT
END:VCALENDAR