BEGIN:VCALENDAR
VERSION:2.0
PRODID:-//jEvents 2.0 for Joomla//EN
CALSCALE:GREGORIAN
METHOD:PUBLISH
BEGIN:VEVENT
UID:0f8a3a4ccbfc8bb7a0ce80c7436dccf5
CATEGORIES:18. Bezirk
CREATED:20260406T133935
SUMMARY:👶 🎶 Mantra-Singen mit Babys (DEU/ENG)
LOCATION:Ferrogasse 9 1180 Wien
DESCRIPTION:Mantrasingen mit BabyBabys lieben Musik und Klang – und für uns Mamas kann 
 das Tönen und Singen unglaublich befreiend und wohltuend sein. Gemeinsames 
 Singen schafft Verbindung: zu unseren Babys, zueinander und zu uns selbst.\
 nIn diesem Kurs singen wir einfache Mantras aus aller Welt – Lieder mit bes
 tärkenden Affirmationen und der heilsamen Kraft von Klang. Außerdem tönen w
 ir gemeinsam: mit Mini-Mantras wie OM, AOUM, Vokalen oder auch ganz frei un
 d intuitiv. Diese Stimmarbeit hilft uns, im Körper anzukommen und der Seele
  Raum zu geben.\nDu brauchst keinerlei Singerfahrung – jede Stimme ist will
 kommen! Dieser Raum ist für Mamas gedacht, um einfach zu sein – um sich zu 
 entspannen, sich zu verbinden, zu singen und achtsam mit der eigenen Stimme
  zu meditieren.\nDieser Kurs wird auf Deutsch geleitet (mit englischer Über
 setzung bei Bedarf)\n--------------------------------\n.Babies are naturall
 y drawn to music and sound – and for us moms, using our voices can be both 
 deeply soothing and incredibly freeing. Singing together nurtures connectio
 n: with our babies, with each other, and with ourselves.\nIn this class, we
  sing simple mantras from around the world – songs filled with uplifting af
 firmations and the healing power of sound. We also explore gentle vocal ton
 ing: using mini-mantras like OM, AOUM, vowels, or even free, intuitive soun
 ds. This vocal practice helps us ground into our bodies and gives our spiri
 ts the space to breathe.\nNo singing experience is needed – every voice is 
 welcome!This is a space for moms to simply be – to rest, reconnect, sing, a
 nd share in mindful moments through the power of voice.\nThis class is led 
 in German (with English translation if necessary).\n
X-ALT-DESC;FMTTYPE=text/html:<p style="box-sizing: border-box; border: 0px solid #e0e0e0; margin: 0px 0p
 x 12px; padding: 0px; color: #141414; font-family: ui-sans-serif, system-ui
 , sans-serif, 'Apple Color Emoji', 'Segoe UI Emoji', 'Segoe UI Symbol', 'No
 to Color Emoji'; font-size: medium;">Mantrasingen mit BabyBabys lieben Musi
 k und Klang – und für uns Mamas kann das Tönen und Singen unglaublich befre
 iend und wohltuend sein.&nbsp;<span style="box-sizing: border-box; border: 
 0px solid #e0e0e0; margin: 0px; padding: 0px; font-weight: bold;">Gemeinsam
 es Singen schafft Verbindung</span>: zu unseren Babys, zueinander und zu un
 s selbst.</p><p style="box-sizing: border-box; border: 0px solid #e0e0e0; m
 argin: 0px 0px 12px; padding: 0px; color: #141414; font-family: ui-sans-ser
 if, system-ui, sans-serif, 'Apple Color Emoji', 'Segoe UI Emoji', 'Segoe UI
  Symbol', 'Noto Color Emoji'; font-size: medium;">In diesem Kurs singen wir
  einfache Mantras aus aller Welt – Lieder mit bestärkenden Affirmationen un
 d der heilsamen Kraft von Klang. Außerdem tönen wir gemeinsam: mit Mini-Man
 tras wie OM, AOUM, Vokalen oder auch ganz frei und intuitiv. Diese Stimmarb
 eit hilft uns, im Körper anzukommen und der Seele Raum zu geben.</p><p styl
 e="box-sizing: border-box; border: 0px solid #e0e0e0; margin: 0px 0px 12px;
  padding: 0px; color: #141414; font-family: ui-sans-serif, system-ui, sans-
 serif, 'Apple Color Emoji', 'Segoe UI Emoji', 'Segoe UI Symbol', 'Noto Colo
 r Emoji'; font-size: medium;">Du brauchst&nbsp;<span style="box-sizing: bor
 der-box; border: 0px solid #e0e0e0; margin: 0px; padding: 0px; font-weight:
  bold;">keinerlei Singerfahrung&nbsp;</span>– jede Stimme ist willkommen! D
 ieser Raum ist für Mamas gedacht, um einfach&nbsp;<em style="box-sizing: bo
 rder-box; border: 0px solid #e0e0e0; margin: 0px; padding: 0px;">zu sein</e
 m>&nbsp;– um sich zu entspannen, sich zu verbinden, zu singen und achtsam m
 it der eigenen Stimme zu meditieren.</p><p style="box-sizing: border-box; b
 order: 0px solid #e0e0e0; margin: 0px 0px 12px; padding: 0px; color: #14141
 4; font-family: ui-sans-serif, system-ui, sans-serif, 'Apple Color Emoji', 
 'Segoe UI Emoji', 'Segoe UI Symbol', 'Noto Color Emoji'; font-size: medium;
 ">Dieser Kurs wird auf&nbsp;<span style="box-sizing: border-box; border: 0p
 x solid #e0e0e0; margin: 0px; padding: 0px; font-weight: bold;">Deutsch</sp
 an>&nbsp;geleitet (mit&nbsp;<span style="box-sizing: border-box; border: 0p
 x solid #e0e0e0; margin: 0px; padding: 0px; font-weight: bold;">englischer 
 Übersetzung</span>&nbsp;bei Bedarf)</p><p style="box-sizing: border-box; bo
 rder: 0px solid #e0e0e0; margin: 0px 0px 12px; padding: 0px; color: #141414
 ; font-family: ui-sans-serif, system-ui, sans-serif, 'Apple Color Emoji', '
 Segoe UI Emoji', 'Segoe UI Symbol', 'Noto Color Emoji'; font-size: medium;"
 >--------------------------------</p><p style="box-sizing: border-box; bord
 er: 0px solid #e0e0e0; margin: 0px 0px 12px; padding: 0px; color: #141414; 
 font-family: ui-sans-serif, system-ui, sans-serif, 'Apple Color Emoji', 'Se
 goe UI Emoji', 'Segoe UI Symbol', 'Noto Color Emoji'; font-size: medium;">.
 Babies are naturally drawn to music and sound – and for us moms, using our 
 voices can be both deeply soothing and incredibly freeing.&nbsp;<span style
 ="box-sizing: border-box; border: 0px solid #e0e0e0; margin: 0px; padding: 
 0px; font-weight: bold;">Singing together nurtures connection</span>: with 
 our babies, with each other, and with ourselves.</p><p style="box-sizing: b
 order-box; border: 0px solid #e0e0e0; margin: 0px 0px 12px; padding: 0px; c
 olor: #141414; font-family: ui-sans-serif, system-ui, sans-serif, 'Apple Co
 lor Emoji', 'Segoe UI Emoji', 'Segoe UI Symbol', 'Noto Color Emoji'; font-s
 ize: medium;">In this class, we sing simple mantras from around the world –
  songs filled with uplifting affirmations and the healing power of sound. W
 e also explore gentle vocal toning: using mini-mantras like OM, AOUM, vowel
 s, or even free, intuitive sounds. This vocal practice helps us ground into
  our bodies and gives our spirits the space to breathe.</p><p style="box-si
 zing: border-box; border: 0px solid #e0e0e0; margin: 0px 0px 12px; padding:
  0px; color: #141414; font-family: ui-sans-serif, system-ui, sans-serif, 'A
 pple Color Emoji', 'Segoe UI Emoji', 'Segoe UI Symbol', 'Noto Color Emoji';
  font-size: medium;"><span style="box-sizing: border-box; border: 0px solid
  #e0e0e0; margin: 0px; padding: 0px; font-weight: bold;">No singing experie
 nce is needed – every voice is welcome!</span>This is a space for moms to s
 imply&nbsp;<em style="box-sizing: border-box; border: 0px solid #e0e0e0; ma
 rgin: 0px; padding: 0px;">be</em>&nbsp;– to rest, reconnect, sing, and shar
 e in mindful moments through the power of voice.</p><p style="box-sizing: b
 order-box; border: 0px solid #e0e0e0; margin: 0px 0px 12px; padding: 0px; c
 olor: #141414; font-family: ui-sans-serif, system-ui, sans-serif, 'Apple Co
 lor Emoji', 'Segoe UI Emoji', 'Segoe UI Symbol', 'Noto Color Emoji'; font-s
 ize: medium;">This class is led in&nbsp;<span style="box-sizing: border-box
 ; border: 0px solid #e0e0e0; margin: 0px; padding: 0px; font-weight: bold;"
 >German</span>&nbsp;(with&nbsp;<span style="box-sizing: border-box; border:
  0px solid #e0e0e0; margin: 0px; padding: 0px; font-weight: bold;">English 
 translation&nbsp;</span>if necessary).</p>
CONTACT:https://www.beyourmuse.at/stundenplan
X-EXTRAINFO:[preis='1200'][anmeldung='true']
DTSTAMP:20260425T103433
DTSTART:20260421T092000
DTEND:20260421T102000
SEQUENCE:0
TRANSP:OPAQUE
END:VEVENT
END:VCALENDAR