BEGIN:VCALENDAR
VERSION:2.0
PRODID:-//jEvents 2.0 for Joomla//EN
CALSCALE:GREGORIAN
METHOD:PUBLISH
BEGIN:VEVENT
UID:d78cd8a974e018ca6815adfe6c562fed
CATEGORIES:13. Bezirk
CREATED:20260421T175157
SUMMARY:Rückbildung mit Mama-Baby-Yoga  - live & online
LOCATION:Wattmanngasse 7\, EG
DESCRIPTION:<p>&nbsp;</p><p style="margin: 0px 0px 15px; font-style: normal; font-varia
 nt-caps: normal; font-width: normal; font-size: 15px; line-height: normal; 
 font-family: Helvetica; font-size-adjust: none; font-kerning: auto; font-va
 riant-alternates: normal; font-variant-ligatures: normal; font-variant-nume
 ric: normal; font-variant-east-asian: normal; font-variant-position: normal
 ; font-variant-emoji: normal; font-feature-settings: normal; font-optical-s
 izing: auto; font-variation-settings: normal; color: #750065;"><b>Dein Rück
 bildungsKURS für mehr Kraft und Energie</b><span style="font-style: normal;
  font-variant-caps: normal; font-width: normal; line-height: normal; font-f
 amily: 'Helvetica Neue'; font-size-adjust: none; font-kerning: auto; font-v
 ariant-alternates: normal; font-variant-ligatures: normal; font-variant-num
 eric: normal; font-variant-east-asian: normal; font-variant-position: norma
 l; font-variant-emoji: normal; font-feature-settings: normal; font-optical-
 sizing: auto; font-variation-settings: normal; color: #070707;"></span></p>
 <p>7 Termine, jeweils Montags ab 27.4. - 10-11 UHR</p><p style="margin: 0px
  0px 15px; font-style: normal; font-variant-caps: normal; font-width: norma
 l; font-size: 15px; line-height: normal; font-family: Helvetica; font-size-
 adjust: none; font-kerning: auto; font-variant-alternates: normal; font-var
 iant-ligatures: normal; font-variant-numeric: normal; font-variant-east-asi
 an: normal; font-variant-position: normal; font-variant-emoji: normal; font
 -feature-settings: normal; font-optical-sizing: auto; font-variation-settin
 gs: normal; color: #343434;">Empfohlen ab der 8. bzw. 12. Woche nach einer 
 Spontangeburt bzw. nach einem Kaiserschnitt....oder später, wann immer es s
 ich für dich gut und richtig anfühlt.</p><p style="margin: 0px 0px 15px; fo
 nt-style: normal; font-variant-caps: normal; font-width: normal; font-size:
  15px; line-height: normal; font-family: Helvetica; font-size-adjust: none;
  font-kerning: auto; font-variant-alternates: normal; font-variant-ligature
 s: normal; font-variant-numeric: normal; font-variant-east-asian: normal; f
 ont-variant-position: normal; font-variant-emoji: normal; font-feature-sett
 ings: normal; font-optical-sizing: auto; font-variation-settings: normal; c
 olor: #343434;">Der Fokus dieses Kurses liegt auf deiner <strong>Gebärmutte
 r-Rückbildung</strong> und deinem Beckenboden. Wir stärken die untere Bauch
 muskulatur sowie die Rückenmuskulatur, die durch das Tragen und Stillen des
  Babies bei Müttern besonders beansprucht wird. Auch der Nacken- und Schult
 ergürtel werden jedes Mal gezielt trainiert und gelockert.</p><p style="mar
 gin: 0px 0px 15px; font-style: normal; font-variant-caps: normal; font-widt
 h: normal; font-size: 15px; line-height: normal; font-family: Helvetica; fo
 nt-size-adjust: none; font-kerning: auto; font-variant-alternates: normal; 
 font-variant-ligatures: normal; font-variant-numeric: normal; font-variant-
 east-asian: normal; font-variant-position: normal; font-variant-emoji: norm
 al; font-feature-settings: normal; font-optical-sizing: auto; font-variatio
 n-settings: normal; color: #343434;">Dein Baby wird so weit es geht in die 
 Übungen mit einbezogen oder darf neben dir liegen oder schlafen. Außerdem g
 ibt es immer wieder eine kleine Einheit Babyyoga - gut für die Entwicklung 
 der Muskulatur und des Gehirns. Du erfährst überdies hilfreiche Übungen für
  dein Baby - damit es besser schlafen und verdauen und rundherum sich einfa
 ch wohl fühlen kann. Wir erlernen verschiedene Griffe der Babymassage.</p><
 p style="margin: 0px 0px 15px; font-style: normal; font-variant-caps: norma
 l; font-width: normal; font-size: 15px; line-height: normal; font-family: H
 elvetica; font-size-adjust: none; font-kerning: auto; font-variant-alternat
 es: normal; font-variant-ligatures: normal; font-variant-numeric: normal; f
 ont-variant-east-asian: normal; font-variant-position: normal; font-variant
 -emoji: normal; font-feature-settings: normal; font-optical-sizing: auto; f
 ont-variation-settings: normal; color: #750065;"><b>Rückbildung, Entspannun
 g, Austausch&nbsp;</b></p><p style="margin: 0px 0px 15px; font-style: norma
 l; font-variant-caps: normal; font-width: normal; font-size: 15px; line-hei
 ght: normal; font-family: Helvetica; font-size-adjust: none; font-kerning: 
 auto; font-variant-alternates: normal; font-variant-ligatures: normal; font
 -variant-numeric: normal; font-variant-east-asian: normal; font-variant-pos
 ition: normal; font-variant-emoji: normal; font-feature-settings: normal; f
 ont-optical-sizing: auto; font-variation-settings: normal; color: #343434;"
 >Ein weiterer Mehrwert dieses Kurses ist, dass du dich mit anderen Mamis üb
 er die WhatsApp Gruppe austauschen kannst. Yoga wirkt nachweislich auch auf
  das Gemüt und kann dir helfen emotionale Tiefs, sozusagen die normalen „Du
 rchhänger“ die uns gerade in den anstrengenden Phasen vermehrt zu schaffen 
 machen, besser zu verarbeiten.</p><p style="margin: 0px 0px 15px; font-styl
 e: normal; font-variant-caps: normal; font-width: normal; font-size: 15px; 
 line-height: normal; font-family: Helvetica; font-size-adjust: none; font-k
 erning: auto; font-variant-alternates: normal; font-variant-ligatures: norm
 al; font-variant-numeric: normal; font-variant-east-asian: normal; font-var
 iant-position: normal; font-variant-emoji: normal; font-feature-settings: n
 ormal; font-optical-sizing: auto; font-variation-settings: normal; color: #
 343434;">Danach kannst du mit deinem Baby oder deinen neu gewonnenen Babyma
 mafreundinnen eine wunderschöne Mittagspause im Schlosspark Schönbrunn mit 
 seinen unzähligen Möglichkeiten für ein abwechslungsreiches Tagesprogramm g
 enießen.&nbsp;</p><p style="margin: 0px 0px 15px; font-style: normal; font-
 variant-caps: normal; font-width: normal; font-size: 15px; line-height: nor
 mal; font-family: Helvetica; font-size-adjust: none; font-kerning: auto; fo
 nt-variant-alternates: normal; font-variant-ligatures: normal; font-variant
 -numeric: normal; font-variant-east-asian: normal; font-variant-position: n
 ormal; font-variant-emoji: normal; font-feature-settings: normal; font-opti
 cal-sizing: auto; font-variation-settings: normal; color: #343434;">Wir mac
 hen <strong>sanftes Yoga zur Stärkung deines Beckenbodens</strong> und der 
 durch die Geburt beanspruchten Muskeln. Auch der Rücken wird gestärkt - Mus
 kelpartien, die auch nach der Geburt durch das viele Tragen sehr beanspruch
 t werden. Wir stärken die untere Bauchmuskulatur sowie die Rückenmuskulatur
 , die durch das Tragen und Stillen des Babies bei jungen Müttern besonders 
 beansprucht wird. Der Focus der Übungen liegt auf deiner Rückbildung.</p><p
  style="margin: 0px 0px 15px; font-style: normal; font-variant-caps: normal
 ; font-width: normal; font-size: 15px; line-height: normal; font-family: He
 lvetica; font-size-adjust: none; font-kerning: auto; font-variant-alternate
 s: normal; font-variant-ligatures: normal; font-variant-numeric: normal; fo
 nt-variant-east-asian: normal; font-variant-position: normal; font-variant-
 emoji: normal; font-feature-settings: normal; font-optical-sizing: auto; fo
 nt-variation-settings: normal; color: #343434;">Aber du erfährst auch jedes
  Mal hilfreiche Übungen für dein Baby - damit es besser schläft, besser ver
 daut und rundherum sich einfach wohl fühlen kann. Außerdem wird durch die g
 ezielten Übungen auch die gesamte Entwicklung der Muskulatur und es Gehirns
  angeregt! Ihr erlebt gemeinsame Bonding- und Kuschelmomente.</p><p style="
 margin: 0px 0px 15px; font-style: normal; font-variant-caps: normal; font-w
 idth: normal; font-size: 15px; line-height: normal; font-family: Helvetica;
  font-size-adjust: none; font-kerning: auto; font-variant-alternates: norma
 l; font-variant-ligatures: normal; font-variant-numeric: normal; font-varia
 nt-east-asian: normal; font-variant-position: normal; font-variant-emoji: n
 ormal; font-feature-settings: normal; font-optical-sizing: auto; font-varia
 tion-settings: normal; color: #343434;"><br /> Mit Yoga wieder Kraft tanken
  - damit es allen Familienmitgliedern besser geht. Yoga wirkt nachweislich 
 auch auf das Gemüt und kann dir helfen emotionale Tiefs, sozusagen die norm
 alen „Durchhänger“ die uns gerade in den anstrengenden Phasen vermehrt zu s
 chaffen machen, besser zu verarbeiten.&nbsp;</p><p style="margin: 0px 0px 1
 5px; font-style: normal; font-variant-caps: normal; font-width: normal; fon
 t-size: 15px; line-height: normal; font-family: Helvetica; font-size-adjust
 : none; font-kerning: auto; font-variant-alternates: normal; font-variant-l
 igatures: normal; font-variant-numeric: normal; font-variant-east-asian: no
 rmal; font-variant-position: normal; font-variant-emoji: normal; font-featu
 re-settings: normal; font-optical-sizing: auto; font-variation-settings: no
 rmal; color: #343434;">Mama-Baby-Yoga-Online hat den Vorteil, dass dein Bab
 y nicht in seiner Schlafroutine gestört wird und es weniger durch Lärm oder
  fremde Umgebung abgelenkt ist. Manchmal ist es auch einfach für alle beque
 mer von zu Hause aus zu üben. Wenn du einmal eine Woche verhindert bist, üb
 st du einfach im Nachhinein 7 Tage lang mit der Aufzeichnung. Die Onlinestu
 nden kannst du als Kurs oder einzeln dazu buchen. Frag einfach per Mail nac
 h Preisen und Möglichkeiten.</p><p><b style="caret-color: #750065; color: #
 750065; font-family: Helvetica; font-size: 15px;">Auch nur ONLINE möglich</
 b></p><p style="margin: 0px 0px 15px; font-style: normal; font-variant-caps
 : normal; font-width: normal; font-size: 15px; line-height: normal; font-fa
 mily: Helvetica; font-size-adjust: none; font-kerning: auto; font-variant-a
 lternates: normal; font-variant-ligatures: normal; font-variant-numeric: no
 rmal; font-variant-east-asian: normal; font-variant-position: normal; font-
 variant-emoji: normal; font-feature-settings: normal; font-optical-sizing: 
 auto; font-variation-settings: normal; color: #343434;">Übrigens auch ein t
 olles Programm für Mamis deren Kinder schon älter sind! Hast du vielleicht 
 nie Zeit, Ruhe oder Kraft für Rückbildung gehabt in den ersten Monaten? Dan
 n kannst du hier auch gerne ohne Baby teilnehmen oder dein Krabbelschatz sp
 ielt währendessen neben dir. Für diese wichtigen Beckenboden-Übungen ist es
  nie zu spät.</p><p style="margin: 0px 0px 15px; font-style: normal; font-v
 ariant-caps: normal; font-width: normal; font-size: 15px; line-height: norm
 al; font-family: Helvetica; font-size-adjust: none; font-kerning: auto; fon
 t-variant-alternates: normal; font-variant-ligatures: normal; font-variant-
 numeric: normal; font-variant-east-asian: normal; font-variant-position: no
 rmal; font-variant-emoji: normal; font-feature-settings: normal; font-optic
 al-sizing: auto; font-variation-settings: normal; color: #343434;">Wenn du 
 einmal eine Woche verhindert bist, übst du einfach im Nachhinein 7 Tage lan
 g mit der Aufzeichnung. --&gt; melde dich gleich kostenlos und unverbindlic
 h an unter <a href="https://www.yogavibe.at/kontakt"><span style="color: #0
 000e9;">www.yogavibe.at</span></a> und erhalte alle Infos zu meinen Einheit
 en und wertvolle Mama-Tipps.&nbsp;</p>
CONTACT:office@yogavibe.at
X-EXTRAINFO:[preis='2000'][anmeldung='true']
DTSTAMP:20260424T213802
DTSTART:20260525T080000
DTEND:20260525T090000
SEQUENCE:0
TRANSP:OPAQUE
END:VEVENT
END:VCALENDAR