BEGIN:VCALENDAR
VERSION:2.0
PRODID:-//jEvents 2.0 for Joomla//EN
CALSCALE:GREGORIAN
METHOD:PUBLISH
BEGIN:VEVENT
UID:cdf48fce93ff650262dba74de3cecaca
CATEGORIES:18. Bezirk
CREATED:20260422T114507
SUMMARY:MusikZwerge in Bewegung mini
LOCATION:Spielringel  Mollgasse  11-13
DESCRIPTION:<h2 class="element-header" style="box-sizing: border-box; margin-top: 0px; 
 margin-bottom: 0.5rem; font-family: Montserrat; font-weight: 300; line-heig
 ht: 1.2; font-size: 2.275rem; color: #2b2b2b;">MusikZwerge in Bewegung mini
 &nbsp;</h2><h4 style="box-sizing: border-box; margin-top: 0px; margin-botto
 m: 1rem; font-family: Montserrat; font-weight: 300; line-height: 1.2; font-
 size: 1.625rem; color: #2b2b2b;">für Krabbelkinder (ca. 6–14 Monate)</h4><p
  style="box-sizing: border-box; margin-top: 0px; margin-bottom: 1rem; color
 : #2b2b2b; font-family: Roboto; font-size: 16px;"><span class="text-primary
  font-weight-bold" style="box-sizing: border-box; font-weight: 700 !importa
 nt; color: #158795 !important;">Start:&nbsp;</span>01.06.2026</p><p style="
 box-sizing: border-box; margin-top: 0px; margin-bottom: 1rem; color: #2b2b2
 b; font-family: Roboto; font-size: 16px;"><span class="text-primary font-we
 ight-bold" style="box-sizing: border-box; font-weight: 700 !important; colo
 r: #158795 !important;">Mit:&nbsp;</span><a href="https://spielringel.at/an
 gebote/das-team/susanne" style="box-sizing: border-box; color: #158795; tex
 t-decoration-line: none; background-color: transparent;">Susanne</a></p><p 
 style="box-sizing: border-box; margin-top: 0px; margin-bottom: 1rem; color:
  #2b2b2b; font-family: Roboto; font-size: 16px;"><span class="text-primary 
 font-weight-bold" style="box-sizing: border-box; font-weight: 700 !importan
 t; color: #158795 !important;">Kurstag:&nbsp;</span>Montag 14:00-14:45</p><
 p style="box-sizing: border-box; margin-top: 0px; margin-bottom: 1rem; colo
 r: #2b2b2b; font-family: Roboto; font-size: 16px;"><span class="text-primar
 y font-weight-bold" style="box-sizing: border-box; font-weight: 700 !import
 ant; color: #158795 !important;">Termine:&nbsp;</span>01.06., 08.06., 15.06
 ., 22.06., 29.06.</p><p style="box-sizing: border-box; margin-top: 0px; mar
 gin-bottom: 1rem; color: #2b2b2b; font-family: Roboto; font-size: 16px;"><s
 pan class="text-primary font-weight-bold" style="box-sizing: border-box; fo
 nt-weight: 700 !important; color: #158795 !important;">Kosten:&nbsp;</span>
 €90,- (5 Einheiten)</p><p style="box-sizing: border-box; margin-top: 0px; m
 argin-bottom: 1rem; color: #2b2b2b; font-family: Roboto; font-size: 16px;">
 <span style="box-sizing: border-box; font-weight: bolder;">MusikZwerge in B
 ewegung</span>&nbsp;ist eine liebevoll gestaltete Kursreihe für Babys und K
 leinkinder, die auf spielerische Weise die Welt der Musik, Bewegung und Kör
 perwahrnehmung entdecken. In einer geschützten und fröhlichen Atmosphäre fö
 rdern wir mit Liedern, Tänzen und einfachen Instrumenten die ganzheitliche 
 Entwicklung deines Kindes – und schaffen zugleich wertvolle gemeinsame Mome
 nte.</p><p style="box-sizing: border-box; margin-top: 0px; margin-bottom: 0
 px; color: #2b2b2b; font-family: Roboto; font-size: 16px;"><span style="box
 -sizing: border-box; font-weight: bolder;">MusikZwerge mini – für Krabbelki
 nder</span>&nbsp;(ca. 6–14 Monate) In dieser Gruppe stehen sanfte Bewegungs
 impulse, Kniereiter, Fingerspiele und einfache Klanginstrumente im Vordergr
 und. Dein Kind erlebt Musik mit dem ganzen Körper, wird zum Mitmachen anger
 egt und fördert dabei seine Wahrnehmung, Koordination und Bindung zu dir.</
 p>
CONTACT:www.spielringel.at
X-EXTRAINFO:[preis='9000'][anmeldung='true']
DTSTAMP:20260425T030018
DTSTART:20260622T120000
DTEND:20260622T124500
SEQUENCE:0
TRANSP:OPAQUE
END:VEVENT
END:VCALENDAR