BEGIN:VCALENDAR
VERSION:2.0
PRODID:-//jEvents 2.0 for Joomla//EN
CALSCALE:GREGORIAN
METHOD:PUBLISH
BEGIN:VEVENT
UID:9cce990dfce9966a7140690fc5e4c528
CATEGORIES:18. Bezirk
CREATED:20260422T114640
SUMMARY:MusikZwerge in Bewegung maxi 
LOCATION:Spielringel  Mollgasse  11-13
DESCRIPTION:MusikZwerge in Bewegung maxi für Laufanfänger:innen &amp; kleine Tänzer:inn
 en (ca. 14–30 Monate)Start: 01.06.2026\nMit: Susanne (https://spielringel.a
 t/angebote/das-team/susanne)\nKurstag: Montag 15:00-15:45\nTermine: 01.06.,
  08.06., 15.06., 22.06., 29.06.\nKosten: €90,- (5 Einheiten)\nMusikZwerge i
 n Bewegung ist eine liebevoll gestaltete Kursreihe für Babys und Kleinkinde
 r, die auf spielerische Weise die Welt der Musik, Bewegung und Körperwahrne
 hmung entdecken. In einer geschützten und fröhlichen Atmosphäre fördern wir
  mit Liedern, Tänzen und einfachen Instrumenten die ganzheitliche Entwicklu
 ng deines Kindes – und schaffen zugleich wertvolle gemeinsame Momente.\nMus
 ikZwerge maxi – für Laufanfänger:innen  &amp; kleine Tänzer:innen (ca. 14–3
 0 Monate) Sobald die ersten Schritte sicher sind, wird die Welt noch spanne
 nder! In diesem Kurs wird getanzt, gehüpft, geklatscht und gespielt. Mit al
 tersgerechten Bewegungsliedern, kleinen Tänzen und phantasievollen Spielen 
 regen wir nicht nur die Motorik an, sondern auch Kreativität, Sprache und s
 oziales Miteinander.\n 
X-ALT-DESC;FMTTYPE=text/html:<h2 class="element-header" style="box-sizing: border-box; margin-top: 0px; 
 margin-bottom: 0.5rem; font-family: Montserrat; font-weight: 300; line-heig
 ht: 1.2; font-size: 2.275rem; color: #2b2b2b;">MusikZwerge in Bewegung maxi
 &nbsp;</h2><h4 style="box-sizing: border-box; margin-top: 0px; margin-botto
 m: 1rem; font-family: Montserrat; font-weight: 300; line-height: 1.2; font-
 size: 1.625rem; color: #2b2b2b;">für Laufanfänger:innen &amp; kleine Tänzer
 :innen (ca. 14–30 Monate)</h4><div id="page-content" class="bp-page-content
  main-section" style="box-sizing: border-box; color: #2b2b2b; font-family: 
 Roboto; font-size: 16px;"><div class="section section-default" style="box-s
 izing: border-box; overflow: hidden;"><div class="container" style="box-siz
 ing: border-box; width: 1140px; padding-right: 20px; padding-left: 20px; ma
 rgin-right: auto; margin-left: auto; max-width: 1140px;"><div class="sectio
 n-row" style="box-sizing: border-box; display: flex; flex-wrap: wrap; margi
 n-left: -20px; margin-right: -20px;"><div class="frame frame-default frame-
 type-textpic frame-layout-0 frame-background-none frame-no-backgroundimage 
 frame-space-before-none frame-space-after-none" style="box-sizing: border-b
 ox; position: relative; padding-top: 3.5rem; padding-bottom: 3.5rem; margin
 -top: 0rem; margin-bottom: 0rem;"><div class="frame-container" style="box-s
 izing: border-box; position: relative; width: 815px; padding-right: 0px; pa
 dding-left: 0px; margin-right: auto; margin-left: auto; max-width: 1140px; 
 margin-bottom: 0px;"><div class="frame-inner" style="box-sizing: border-box
 ;"><div class="textpic textpic-right" style="box-sizing: border-box; displa
 y: flex; flex-wrap: wrap; margin-left: -20px; margin-right: -20px; margin-b
 ottom: 0px;"><div class="textpic-item textpic-text" style="box-sizing: bord
 er-box; order: 1; width: 427.5px; padding-left: 20px; padding-right: 20px; 
 margin-bottom: 0px;"><p style="box-sizing: border-box; margin-top: 0px; mar
 gin-bottom: 1rem;"><span class="text-primary font-weight-bold" style="box-s
 izing: border-box; font-weight: 700 !important; color: #158795 !important;"
 >Start:&nbsp;</span>01.06.2026</p><p style="box-sizing: border-box; margin-
 top: 0px; margin-bottom: 1rem;"><span class="text-primary font-weight-bold"
  style="box-sizing: border-box; font-weight: 700 !important; color: #158795
  !important;">Mit:&nbsp;</span><a href="https://spielringel.at/angebote/das
 -team/susanne" style="box-sizing: border-box; color: #158795; text-decorati
 on-line: none; background-color: transparent;">Susanne</a></p><p style="box
 -sizing: border-box; margin-top: 0px; margin-bottom: 1rem;"><span class="te
 xt-primary font-weight-bold" style="box-sizing: border-box; font-weight: 70
 0 !important; color: #158795 !important;">Kurstag:&nbsp;</span>Montag 15:00
 -15:45</p><p style="box-sizing: border-box; margin-top: 0px; margin-bottom:
  1rem;"><span class="text-primary font-weight-bold" style="box-sizing: bord
 er-box; font-weight: 700 !important; color: #158795 !important;">Termine:&n
 bsp;</span>01.06., 08.06., 15.06., 22.06., 29.06.</p><p style="box-sizing: 
 border-box; margin-top: 0px; margin-bottom: 1rem;"><span class="text-primar
 y font-weight-bold" style="box-sizing: border-box; font-weight: 700 !import
 ant; color: #158795 !important;">Kosten:&nbsp;</span>€90,- (5 Einheiten)</p
 ><p style="box-sizing: border-box; margin-top: 0px; margin-bottom: 1rem;"><
 span style="box-sizing: border-box; font-weight: bolder;">MusikZwerge in Be
 wegung</span>&nbsp;ist eine liebevoll gestaltete Kursreihe für Babys und Kl
 einkinder, die auf spielerische Weise die Welt der Musik, Bewegung und Körp
 erwahrnehmung entdecken. In einer geschützten und fröhlichen Atmosphäre för
 dern wir mit Liedern, Tänzen und einfachen Instrumenten die ganzheitliche E
 ntwicklung deines Kindes – und schaffen zugleich wertvolle gemeinsame Momen
 te.</p><p style="box-sizing: border-box; margin-top: 0px; margin-bottom: 0p
 x;"><span style="box-sizing: border-box; font-weight: bolder;">MusikZwerge 
 maxi – für Laufanfänger:innen &nbsp;&amp; kleine Tänzer:innen&nbsp;</span>(
 ca. 14–30 Monate) Sobald die ersten Schritte sicher sind, wird die Welt noc
 h spannender! In diesem Kurs wird getanzt, gehüpft, geklatscht und gespielt
 . Mit altersgerechten Bewegungsliedern, kleinen Tänzen und phantasievollen 
 Spielen regen wir nicht nur die Motorik an, sondern auch Kreativität, Sprac
 he und soziales Miteinander.</p></div></div></div></div></div><div id="c141
 3" class="frame frame-default frame-type-form_formframework frame-layout-0 
 frame-background-none frame-no-backgroundimage frame-space-before-none fram
 e-space-after-none" style="box-sizing: border-box; position: relative; padd
 ing-top: 3.5rem; padding-bottom: 3.5rem; margin-top: -3.5rem; margin-bottom
 : 0rem;"><div class="frame-container" style="box-sizing: border-box; positi
 on: relative; width: 815px; padding-right: 0px; padding-left: 0px; margin-r
 ight: auto; margin-left: auto; max-width: 1140px; margin-bottom: 0px;"><div
  class="frame-inner" style="box-sizing: border-box;"><div class="form-conta
 iner form-identifier-anmeldeformular-1413" style="box-sizing: border-box; m
 argin-bottom: 0px;"><form enctype="multipart/form-data" method="post" noval
 idate="novalidate" id="anmeldeformular-1413" style="box-sizing: border-box;
 "><div style="box-sizing: border-box;">&nbsp;</div><input autocomplete="e3K
 P6" name="tx_form_formframework[anmeldeformular-1413][e3KP6]" type="text" i
 d="anmeldeformular-1413-e3KP6" style="box-sizing: border-box; margin: 0px 0
 px 0px -999em; font-family: inherit; font-size: inherit; line-height: inher
 it; overflow: visible; position: absolute;" tabindex="-1" aria-hidden="true
 " /></form></div></div></div></div></div></div></div></div>
CONTACT:www.spielringel.at
X-EXTRAINFO:[preis='9000'][anmeldung='true']
DTSTAMP:20260425T041138
DTSTART:20260601T130000
DTEND:20260601T134500
SEQUENCE:0
TRANSP:OPAQUE
END:VEVENT
END:VCALENDAR