BEGIN:VCALENDAR
VERSION:2.0
PRODID:-//jEvents 2.0 for Joomla//EN
CALSCALE:GREGORIAN
METHOD:PUBLISH
BEGIN:VEVENT
UID:b7ca1bc130f07b41a3435601601e4989
CATEGORIES:2. Bezirk
CREATED:20260423T143006
SUMMARY:Mondmoment - musikalische Entdeckungsreisen für Kinder 02-15M) und sanftes Yoga für Erwachsene 
LOCATION:Kind&amp;Kegel Eltern-Kind-Zentrum
DESCRIPTION:MONDMOMENT\nMUSIKALISCHE ENTDECKUNGSREISEN FÜR KINDER UND\nSANFTES YOGA FÜR
  ELTERN (ALLE LEVELS)\nIn unserer Gruppe Mondmoment schaffen wir einen gesc
 hützten Raum für\nmusikalische Neugier und elterliche Entspannung. Die Mond
 qualität lehrt uns,\ndass wir nicht aus eigener Kraft strahlen müssen – es 
 reicht, präsent zu sein\nund das Licht des Moments zu reflektieren.\nJeden 
 Mittwochvormittag ab 06.05.2026 von\n09.45 Uhr bis 10.45 Uhr im Kind &amp; 
 Kegel mit Lisi Rauter\n(www.resonanzraum.cc)\nFür Eltern mit Babys von 02 b
 is 15 Monate\nKosten: € 16,- pro Einheit | 5er Block € 77,- | 10er Block € 
 155,-\nAnmeldungen bitte über Kind &amp; Kegel BITTE BIS SPÄTESTENS DIENSTA
 GS 12h\ninfo@kind-und-kegel.at l 01/503 71 88 l www.kind-und-kegel.at\n
X-ALT-DESC;FMTTYPE=text/html:<p>MONDMOMENT<br />MUSIKALISCHE ENTDECKUNGSREISEN FÜR KINDER UND<br />SANFT
 ES YOGA FÜR ELTERN (ALLE LEVELS)<br />In unserer Gruppe Mondmoment schaffen
  wir einen geschützten Raum für<br />musikalische Neugier und elterliche En
 tspannung. Die Mondqualität lehrt uns,<br />dass wir nicht aus eigener Kraf
 t strahlen müssen – es reicht, präsent zu sein<br />und das Licht des Momen
 ts zu reflektieren.<br />Jeden <strong>Mittwochvormittag</strong> ab 06.05.
 2026 von<br /><strong>09.45 Uhr bis 10.45 Uhr</strong> im Kind &amp; Kegel 
 mit Lisi Rauter<br />(www.resonanzraum.cc)<br />Für Eltern mit Babys von 02
  bis 15 Monate<br /><strong>Kosten: € 16,- pro Einheit | 5er Block € 77,- |
  10er Block € 155,-</strong><br /><strong>Anmeldungen bitte über Kind &amp;
  Kegel BITTE BIS SPÄTESTENS DIENSTAGS 12h<br />info@kind-und-kegel.at l 01/
 503 71 88 l www.kind-und-kegel.at</strong></p>
CONTACT:www.kind-und-kegel.at, 01 503 71 88, info@kind-und-kegel.at
X-EXTRAINFO:[preis='1600'][anmeldung='true']
DTSTAMP:20260424T213805
DTSTART:20260527T060000
DTEND:20260527T150000
SEQUENCE:0
TRANSP:OPAQUE
END:VEVENT
END:VCALENDAR